BEGIN:VCALENDAR
VERSION:2.0
PRODID:-//ChamberMaster//Event Calendar 2.0//EN
METHOD:PUBLISH
X-PUBLISHED-TTL:P3D
REFRESH-INTERVAL:P3D
CALSCALE:GREGORIAN
BEGIN:VEVENT
DTSTART:20181123T033000Z
DTEND:20181123T140000Z
X-MICROSOFT-CDO-ALLDAYEVENT:FALSE
SUMMARY:2018 Turkey Day ChariTEE Golf Tournament
DESCRIPTION:The premier Charity Golf Tournament for the American business community in Thailand\, the AMCHAM's Thanksgiving Day Charity Golf Tournament\, is again in the planning. Please join us!\n\n\n\nFormat: We are playing for charity so everyone is invited to participate. This is a 2 best balls scramble format. There will be three flights based on team final score. Handicaps are not calculated and flight assignment is dependent upon final score.\n\n\n\nPrizes: Trophies will be awarded to each member of the top 3 four-person teams of each flight\, 3 flights and last place over all. Each player will receive a goody bag plus be eligible for grand lucky draw prizes.\n\n\n\nEligibility: First 144 entries (4 teams) received with payment.\n\n\n\nDeadline for booking: November 19\, 2018 or until sold out!!!\n\nTHANK YOU TO OUR SPONSORS:\n\n\n\nPlatinum Sponsors:\n\n\n	Chevron\n	Citibank\n	General Motors\n	McThai\n	Minor International Public Co.\, Ltd. (MINT)\n\nGold Sponsors:\n\n\n	Ford\n	Johnson & Johnson\n	International School of Bangkok\n	Seagate Technologies\n	Western Digital\n	WHA Group\n\n \n\nSponsorships still available: \n\n\n	Platinum: 150\,000 Baht\, covers both Memorial Day Golf and Turkey Day. Team of 4 at each tournament\, sponsorship recognition prior\, during and after.\n	Gold: 80\,000 baht. One tournament only. Team of 4\, sponsorship recognition prior\, during and after.\n	Silver: 30\,000 baht. Sponsorship recognition prior\, during and after.
X-ALT-DESC;FMTTYPE=text/html:<p>The premier Charity Golf Tournament for the American business community in Thailand\, the AMCHAM&#39\;s Thanksgiving Day Charity Golf Tournament\, is again in the planning.&nbsp\;Please join us!<br />\n<br />\nFormat: We are playing for charity so everyone is invited to participate. This is a 2 best balls scramble format. There will be three flights based on team final score. Handicaps are not calculated and flight assignment is dependent upon final score.<br />\n<br />\nPrizes: Trophies will be awarded to each member of the top 3 four-person teams of each flight\, 3 flights and last place over all. Each player will receive a goody bag plus be eligible for grand lucky draw prizes.<br />\n<br />\nEligibility: First 144 entries (4 teams) received with payment.<br />\n<br />\nDeadline for booking: November 19\, 2018 or until sold out!!!</p>\n\n<p>THANK YOU TO OUR SPONSORS:<br />\n<br />\nPlatinum Sponsors:</p>\n\n<ul>\n	<li>Chevron</li>\n	<li>Citibank</li>\n	<li>General Motors</li>\n	<li>McThai</li>\n	<li>Minor International Public Co.\, Ltd. (MINT)</li>\n</ul>\nGold Sponsors:\n\n<ul>\n	<li>Ford</li>\n	<li>Johnson &amp\; Johnson</li>\n	<li>International School of Bangkok</li>\n	<li>Seagate Technologies</li>\n	<li>Western Digital</li>\n	<li>WHA Group</li>\n</ul>\n&nbsp\;\n\n<p>Sponsorships still available:&nbsp\;</p>\n\n<ul>\n	<li>Platinum: 150\,000 Baht\, covers both Memorial Day Golf and Turkey Day. Team of 4 at each tournament\, sponsorship recognition prior\, during and after.</li>\n	<li>Gold: 80\,000 baht. One tournament only. Team of 4\, sponsorship recognition prior\, during and after.</li>\n	<li>Silver: 30\,000 baht. Sponsorship recognition prior\, during and after.</li>\n</ul>\n\n<p><br />\n&nbsp\;</p>\n
LOCATION:Vintage Golf\, Bang Bor\, Samutprakran
UID:e.3314.60
SEQUENCE:3
DTSTAMP:20260424T043319Z
URL:http://www.connect.amchamthailand.com/events/details/2018-turkey-day-charitee-golf-tournament-60
END:VEVENT

END:VCALENDAR
