BEGIN:VCALENDAR
VERSION:2.0
PRODID:-//ChamberMaster//Event Calendar 2.0//EN
METHOD:PUBLISH
X-PUBLISHED-TTL:P3D
REFRESH-INTERVAL:P3D
CALSCALE:GREGORIAN
BEGIN:VEVENT
DTSTART:20191216T070000Z
DTEND:20191216T080000Z
X-MICROSOFT-CDO-ALLDAYEVENT:FALSE
SUMMARY:2019 Auto Industry Briefing and 2020 Outlook
DESCRIPTION:The Auto Council will convene on December 16 to discuss the following topics:\n\n	Overview of Thailand's automotive industry performance and outlook   production\, export\, domestic sales.\n	Relevant policy developments of the Thai auto industry in 2019\, e.g. excise tax policy\, bio-fuel policy\, new technology vehicles (xEV)\, future emission standards\, on-going FTAs talks and latest developments\, data privacy act\, consumer protection law\, etc.\n	Exchange of views on other issues of interest to AMCHAM members\n\nAll AMCHAM auto industry members are welcome to attend our briefing to stay abreast of the priorities that AMCHAM advocates for on behalf of our members.\n\n \n\nTo continue to receive updates on our Auto Council meetings and activities\, or to request to join the Council\, please contact Khun Kittie at  kittie@amchamthailand.com.
X-ALT-DESC;FMTTYPE=text/html:The Auto Council will convene on December 16 to discuss the following topics:\n<ul>\n	<li>Overview of Thailand&rsquo\;s automotive industry performance and outlook &ndash\; production\, export\, domestic sales.</li>\n	<li>Relevant policy developments of the Thai auto industry in 2019\, e.g. excise tax policy\, bio-fuel policy\, new technology vehicles (xEV)\, future emission standards\, on-going FTAs talks and latest developments\, data privacy act\, consumer protection law\, etc.</li>\n	<li>Exchange of views on other issues of interest to AMCHAM members</li>\n</ul>\nAll AMCHAM auto industry members are welcome to attend our briefing to stay abreast of the priorities that AMCHAM advocates for on behalf of our members.<br />\n&nbsp\;<br />\nTo continue to receive updates on our Auto Council meetings and activities\, or to request to join the Council\, please contact Khun Kittie at&nbsp\; <a href="mailto:kittie@amchamthailand.com">kittie@amchamthailand.com</a>.
LOCATION:Venue changed from AMCHAM office to Conrad Bangkok\, London Room BTS: Ploenchit
UID:e.3314.479
SEQUENCE:3
DTSTAMP:20260423T054747Z
URL:http://www.connect.amchamthailand.com/events/details/2019-auto-industry-briefing-and-2020-outlook-479
END:VEVENT

END:VCALENDAR
