BEGIN:VCALENDAR
VERSION:2.0
PRODID:-//ChamberMaster//Event Calendar 2.0//EN
METHOD:PUBLISH
X-PUBLISHED-TTL:P3D
REFRESH-INTERVAL:P3D
CALSCALE:GREGORIAN
BEGIN:VEVENT
DTSTART:20200326T113000Z
DTEND:20200326T140000Z
X-MICROSOFT-CDO-ALLDAYEVENT:FALSE
SUMMARY:2020 AMCHAM ChariBOWL (Postponed)
DESCRIPTION:This event has been postponed as a precautionary measure to support public health efforts to minimize the spread of covid-19. When the rescheduled date is confirmed\, AMCHAM will update that information here.\n\n\n\nJoin us for the first AMCHAM Tournament of 2020\, our fun and friendly competition to raise money for the AMCHAM Thailand Foundation's education programs. Form a company team with your colleagues (5 members) or come on your own and we'll match you with a team.\n\n\n\nActivities & Rules:\n\n30 teams of 5 bowlers per team. The tournament consists of 2 games.\n\n\n\nTrophies will be awarded for:\n\nBest Team\n\nHighest Scoring Man\n\nHighest Scoring Woman\n\nLowest Scoring Team
X-ALT-DESC;FMTTYPE=text/html:<p><em style="box-sizing: border-box\; font-family: &quot\;open sans&quot\;\, sans-serif\; font-size: 14px\; color: rgb(0\, 0\, 128)\; font-weight: 700\;">This event has been postponed as a precautionary measure to support public health efforts to minimize the spread of covid-19. When the rescheduled date is confirmed\, AMCHAM will update that information here.</em><br />\n<br />\nJoin us for the first AMCHAM&nbsp\;Tournament of 2020\, our fun and friendly competition to raise money for the AMCHAM Thailand Foundation&#39\;s education programs. Form a company team with your colleagues (5 members) or come on your own and we&#39\;ll match you with a team.<br />\n<br />\nActivities &amp\; Rules:<br />\n30 teams of 5 bowlers per team. The tournament consists of 2 games.<br />\n<br />\nTrophies will be awarded for:<br />\nBest Team<br />\nHighest Scoring Man<br />\nHighest Scoring Woman<br />\nLowest Scoring Team</p>\n
LOCATION:
UID:e.3314.1538
SEQUENCE:3
DTSTAMP:20260423T001128Z
URL:http://www.connect.amchamthailand.com/events/details/2020-amcham-charibowl-postponed-1538
END:VEVENT

END:VCALENDAR
