BEGIN:VCALENDAR
VERSION:2.0
PRODID:-//ChamberMaster//Event Calendar 2.0//EN
METHOD:PUBLISH
X-PUBLISHED-TTL:P3D
REFRESH-INTERVAL:P3D
CALSCALE:GREGORIAN
BEGIN:VEVENT
DTSTART:20220721T070000Z
DTEND:20220721T080000Z
X-MICROSOFT-CDO-ALLDAYEVENT:FALSE
SUMMARY:2022 Edelman Trust Barometer - How Can Business Help Break the Cycle of Distrust in Thailand?
DESCRIPTION:As the COVID-19 pandemic stretches into its third year\, climate-related disasters and systemic social issues have upended people's values\, priorities and expectations\, leading to a reassessment of their trust in societal institutions.\n\nJoin us for the virtual launch of the Thailand findings of the 2022 Edelman Trust Barometer\, the world's most robust exploration on trust in society's major institutions\, business\, government\, NGOs and media. Having studied trust for the past 21 years\, Edelman's findings reconfirm that trust is the ultimate currency. Despite this\, we are seeing the world ensnared in a vicious cycle of distrust\, fueled by disinformation and division. This event will discuss the main forces driving the cycle of distrust and strategies to mitigate them\, providing business leaders in Thailand with valuable insights on how they can take action to restore trust.\n\nPanel Discussion\n\nModerator: Laura Spence\, Director of Clients Services and Operations\, Edelman Thailand\n\nPanelists:\n\n\n	Chitlada Hanvoravongchai\, President of OfficeMate Thailand\n	Pana Janviroj\, Editor\, Asia News Network Group\n	Siriporn Chaiyasuta\, Vice President\, Asia Strategy\, Chevron Eurasia Pacific\n	Adrian Warr\, CEO\, Southeast Asia & APAC Head of Employee Experience\, Edelman\n	Dr. Pavida Pananond\, Professor of International Business\, Thammasat Business School
X-ALT-DESC;FMTTYPE=text/html:<p>As the COVID-19 pandemic stretches into its third year\, climate-related disasters and systemic social issues have upended people&#39\;s values\, priorities and expectations\, leading to a reassessment of their trust in societal institutions.</p>\n\n<p>Join us for the virtual launch of the Thailand findings of the 2022 Edelman Trust Barometer\, the world&#39\;s most robust exploration on trust in society&#39\;s major institutions\,&nbsp\;business\, government\, NGOs and media. Having studied trust for the past 21 years\, Edelman&#39\;s findings reconfirm that trust is the ultimate currency. Despite this\, we are seeing the world ensnared in a vicious cycle of distrust\, fueled by disinformation and division. This event will discuss the main forces driving the cycle of distrust and strategies to mitigate them\, providing business leaders in Thailand with valuable insights on how they can take action to restore trust.</p>\n\n<p><strong>Panel Discussion</strong></p>\n\n<p><em>Moderator:</em> <a href="https://www.linkedin.com/in/lauraspence/?original_referer=https%3A%2F%2Fwww%2Egoogle%2Ecom%2F&amp\;originalSubdomain=hk">Laura Spence</a>\, Director of Clients Services and Operations\, Edelman Thailand<br />\n<em>Panelists:</em></p>\n\n<ul>\n	<li><a href="https://nam12.safelinks.protection.outlook.com/?url=https%3A%2F%2Fwww.linkedin.com%2Fin%2Fchitlada-hanvoravongchai%3Foriginal_referer%3Dhttps%253A%252F%252Fwww.google.com%252F%26originalSubdomain%3Dth&amp\;data=05%7C01%7CMathuros.Chantanayingyong%40edelman.com%7C3fa8faea634846835a9508da4f4aeb07%7Cb824bfb3918e43c2bb1cdcc1ba40a82b%7C0%7C0%7C637909480439214467%7CUnknown%7CTWFpbGZsb3d8eyJWIjoiMC4wLjAwMDAiLCJQIjoiV2luMzIiLCJBTiI6Ik1haWwiLCJXVCI6Mn0%3D%7C3000%7C%7C%7C&amp\;sdata=tC88hUkQiP98qbY02lPnzvym2%2FZhmTj3JF3UYLMhGy0%3D&amp\;reserved=0">Chitlada Hanvoravongchai</a>\, President of OfficeMate Thailand</li>\n	<li><a href="https://www.linkedin.com/in/panajanviroj/?originalSubdomain=th">Pana Janviroj</a>\, Editor\, Asia News Network Group</li>\n	<li><a href="https://www.linkedin.com/in/siriporn-chaiyasuta-10422632/">Siriporn Chaiyasuta</a>\, Vice President\, Asia Strategy\, Chevron Eurasia Pacific</li>\n	<li><a href="https://www.linkedin.com/in/adrianwarr/">Adrian Warr</a>\, CEO\, Southeast Asia &amp\; APAC Head of Employee Experience\, Edelman</li>\n	<li><a href="https://www.linkedin.com/in/pavida-pananond/?originalSubdomain=th">Dr. Pavida Pananond</a>\, Professor of International Business\, Thammasat Business School</li>\n</ul>\n
LOCATION:Webinar
UID:e.3314.2234
SEQUENCE:3
DTSTAMP:20260420T215605Z
URL:http://www.connect.amchamthailand.com/events/details/2022-edelman-trust-barometer-how-can-business-help-break-the-cycle-of-distrust-in-thailand-2234
END:VEVENT

END:VCALENDAR
