BEGIN:VCALENDAR
VERSION:2.0
PRODID:-//ChamberMaster//Event Calendar 2.0//EN
METHOD:PUBLISH
X-PUBLISHED-TTL:P3D
REFRESH-INTERVAL:P3D
CALSCALE:GREGORIAN
BEGIN:VEVENT
DTSTART:20220823T010000Z
DTEND:20220823T020000Z
X-MICROSOFT-CDO-ALLDAYEVENT:FALSE
SUMMARY:AAP Event: Jonathan Martin on American Politics and his book This Will Not Pass: Trump\, Biden\, and the Battle for America's Future
DESCRIPTION:Please note that this event is hosted by a different AmCham and event requirements may differ from AMCHAM Thailand. Clicking the link will bring you to their registration page and away from the AMCHAM website.\n\nREGISTER HERE\n\nThe AmChams of Asia Pacific (AAP) Door Knock Series returns with Jonathan Martin\, National Political Reporter for the New York Times and co-author of the best-selling book This Will Not Pass: Trump\, Biden\, and the Battle for America's Future.\n\n \n\nAs a follow-on to his in-person meeting with the AAP DC delegation\, Jonathan will discuss the current state of play in Washington and the coming midterm elections. While a lot of people are unhappy with the Biden Administration\, there is not widespread support for a "Trumpist Party\," either. As such\, a political realignment is taking place in American politics.\n\n \n\nAbout the Speaker\n\nJonathan Martin is a national political correspondent for The New York Times. Before joining The Times\, he had served as senior political writer for Politico since its inception in 2007. He has appeared frequently on television and radio as a political analyst and commentator\, including on CNN\, ABC\, CBS\, NBC\, PBS\, MSNBC and NPR.
X-ALT-DESC;FMTTYPE=text/html:<p>Please note that this event is hosted by a different AmCham and event requirements may&nbsp\;differ from AMCHAM Thailand. Clicking the link will bring you to their registration page and away from the AMCHAM website.</p>\n\n<p><strong><a href="https://us02web.zoom.us/meeting/register/tZ0sdu-upzkiG9X_NA48v2wNnFXjP3_jla0_"><span style="color:#0000CD\;">REGISTER HERE</span></a></strong></p>\n\n<p>The AmChams of Asia Pacific (AAP) Door Knock Series returns with Jonathan Martin\, National Political Reporter for the New York Times and co-author of the best-selling book&nbsp\;<em><a href="https://www.amazon.com/This-Will-Not-Pass-Americas/dp/1982172487">This Will Not Pass: Trump\, Biden\, and the Battle for America&#39\;s Future</a></em>.<br />\n&nbsp\;<br />\nAs a follow-on to his in-person meeting with the AAP DC delegation\, Jonathan will discuss the current state of play in Washington and the coming midterm elections. While a lot of people are unhappy with the Biden Administration\, there is not widespread support for a &ldquo\;Trumpist Party\,&rdquo\; either. As such\, a political realignment is taking place in American politics.<br />\n&nbsp\;<br />\n<strong>About the Speaker</strong><br />\nJonathan Martin is a national political correspondent for The New York Times. Before joining The Times\, he had served as senior political writer for Politico since its inception in 2007. He has appeared frequently on television and radio as a political analyst and commentator\, including on CNN\, ABC\, CBS\, NBC\, PBS\, MSNBC and NPR.</p>\n
LOCATION:Webinar
UID:e.3314.2267
SEQUENCE:3
DTSTAMP:20260420T180732Z
URL:http://www.connect.amchamthailand.com/events/details/aap-event-jonathan-martin-on-american-politics-and-his-book-this-will-not-pass-trump-biden-and-the-battle-for-america-s-future-2267
END:VEVENT

END:VCALENDAR
