BEGIN:VCALENDAR
VERSION:2.0
PRODID:-//ChamberMaster//Event Calendar 2.0//EN
METHOD:PUBLISH
X-PUBLISHED-TTL:P3D
REFRESH-INTERVAL:P3D
CALSCALE:GREGORIAN
BEGIN:VEVENT
DTSTART;VALUE=DATE:20220717
DTEND;VALUE=DATE:20220721
TRANSP:TRANSPARENT
X-MICROSOFT-CDO-ALLDAYEVENT:TRUE
SUMMARY:AAP Washington Doorknock 2022
DESCRIPTION:REGISTER HERE\n\n \nThe AmChams of the Asia Pacific (AAP) Washington Doorknock is an annual in-person visit to Administration officials and members of Congress about AAP priority issues. The Doorknock will take place over a period of four days\, with the final schedule to be circulated closer to the event.\n\n \n\nSunday\, July 17           Doorknock Briefing Session\n\nMonday\, July 18          Meetings with Executive Branch Leaders & Evening Reception\n\nTuesday\, July 19         Meetings with Congress\, Think Tanks\, & Opinion Leaders\n\nWednesday\, July 20    AmCham Bilateral Programs\n\n\nFor more information\, please watch this overview of the AmChams of Asia Pacific Doorknock in Washington by Adam Sitkoff\, Executive Director American Chamber of Commerce in Hanoi\; Siobhan Das Bachran Chief Executive Officer\, AmCham Malaysia\; and Steve Okun\, AAP Chairman.
X-ALT-DESC;FMTTYPE=text/html:<a href="https://www.surveymonkey.com/r/doorknock2022"><span style="color:#000080\;"><strong>REGISTER HERE</strong></span></a><br />\n&nbsp\;\n<div>The AmChams of the Asia Pacific (AAP) Washington Doorknock is an annual in-person visit to&nbsp\;Administration officials and members of Congress about AAP priority issues. The Doorknock will take place over a period of four days\, with the final schedule to be circulated closer to the event.</div>\n\n<div>&nbsp\;</div>\n\n<div>Sunday\, July 17&nbsp\;&nbsp\;&nbsp\;&nbsp\;&nbsp\;&nbsp\; &nbsp\; &nbsp\; Doorknock Briefing Session</div>\n\n<div>Monday\, July 18&nbsp\;&nbsp\;&nbsp\;&nbsp\;&nbsp\;&nbsp\;&nbsp\;&nbsp\;&nbsp\; Meetings with Executive Branch Leaders &amp\; Evening Reception</div>\n\n<div>Tuesday\, July 19 &nbsp\;&nbsp\;&nbsp\;&nbsp\;&nbsp\; &nbsp\; Meetings with Congress\, Think Tanks\, &amp\; Opinion Leaders</div>\n\n<div>Wednesday\, July 20 &nbsp\;&nbsp\; AmCham Bilateral Programs\n<p><br />\nFor more information\, please watch this&nbsp\;overview of the <a href="http://https://www.youtube.com/watch?v=wnTwke8hiKw">AmChams of Asia Pacific Doorknock in Washington</a> by Adam Sitkoff\, Executive Director American Chamber of Commerce in Hanoi\; Siobhan Das Bachran Chief Executive Officer\, AmCham Malaysia\; and Steve Okun\, AAP Chairman.<o:p></o:p></p>\n<br />\n&nbsp\;</div>\n
LOCATION:Washington D.C.
UID:e.3314.2229
SEQUENCE:3
DTSTAMP:20260420T215251Z
URL:http://www.connect.amchamthailand.com/events/details/aap-washington-doorknock-2022-2229
END:VEVENT

END:VCALENDAR
