BEGIN:VCALENDAR
VERSION:2.0
PRODID:-//ChamberMaster//Event Calendar 2.0//EN
METHOD:PUBLISH
X-PUBLISHED-TTL:P3D
REFRESH-INTERVAL:P3D
CALSCALE:GREGORIAN
BEGIN:VEVENT
DTSTART;VALUE=DATE:20230716
DTEND;VALUE=DATE:20230720
TRANSP:TRANSPARENT
X-MICROSOFT-CDO-ALLDAYEVENT:TRUE
SUMMARY:AAP Washington Doorknock 2023
DESCRIPTION:The AmChams of the Asia Pacific (AAP) Washington Doorknock is an annual in-person visit to Administration officials and members of Congress about AAP priority issues. The Doorknock will take place over a period of four days\, with the final schedule to be circulated closer to the event.\n\nSunday\, July 16           Doorknock Briefing Session\n\nMonday\, July 17          Meetings with Executive Branch Leaders & Evening Reception\n\nTuesday\, July 18         Meetings with Congress\, Think Tanks\, & Opinion Leaders\n\nWednesday\, July 19   AmCham Bilateral Programs\n\n\n\n\n\nFor further information\, please contact heidi@amchamthailand.com.
X-ALT-DESC;FMTTYPE=text/html:<p><span class="ui-provider gr b c d e f g h i j k l m n o p q r s t u v w x y z ab ac ae af ag ah ai aj ak" dir="ltr">The AmChams of the Asia Pacific (AAP) Washington Doorknock is an annual in-person visit to&nbsp\;Administration officials and members of Congress about AAP priority issues. The Doorknock will take place over a period of four days\, with the final schedule to be circulated closer to the event.</span></p>\n\n<p><span class="ui-provider gr b c d e f g h i j k l m n o p q r s t u v w x y z ab ac ae af ag ah ai aj ak" dir="ltr">Sunday\, July 16&nbsp\;&nbsp\;&nbsp\;&nbsp\;&nbsp\;&nbsp\; &nbsp\; &nbsp\; Doorknock Briefing Session<br />\nMonday\, July 17&nbsp\;&nbsp\;&nbsp\;&nbsp\;&nbsp\;&nbsp\;&nbsp\;&nbsp\;&nbsp\; Meetings with Executive Branch Leaders &amp\; Evening Reception<br />\nTuesday\, July 18 &nbsp\;&nbsp\;&nbsp\;&nbsp\;&nbsp\; &nbsp\; Meetings with Congress\, Think Tanks\, &amp\; Opinion Leaders<br />\nWednesday\, July 19 &nbsp\;&nbsp\;AmCham Bilateral Programs</span></p>\n\n<div>\n<p><o:p></o:p></p>\n<br />\n<span class="ui-provider gr b c d e f g h i j k l m n o p q r s t u v w x y z ab ac ae af ag ah ai aj ak" dir="ltr">For further information\, please contact <a aria-label="Link heidi@amchamthailand.com" class="fui-Link ___1qmgydl f3rmtva f1ewtqcl fyind8e f1k6fduh f1w7gpdv fk6fouc fjoy568 figsok6 f1hu3pq6 f11qmguv f19f4twv f1tyq0we f1g0x7ka fhxju0i f1qch9an f1cnd47f fqv5qza f1vmzxwi f1o700av f13mvf36 f1cmlufx f9n3di6 f1ids18y f1tx3yz7 f1deo86v f1eh06m1 f1iescvh ftqa4ok f2hkw1w fhgqx19 f1olyrje f1p93eir f1h8hb77 f1x7u7e9 f10aw75t fsle3fq" href="mailto:heidi@amchamthailand.com" rel="noreferrer noopener" style="overflow-wrap: break-word\;" target="_blank" title="mailto:heidi@amchamthailand.com">heidi@amchamthailand.com</a>.</span></div>\n
LOCATION:Washington D.C.
UID:e.3314.2559
SEQUENCE:3
DTSTAMP:20260419T235341Z
URL:http://www.connect.amchamthailand.com/events/details/aap-washington-doorknock-2023-2559
END:VEVENT

END:VCALENDAR
