BEGIN:VCALENDAR
VERSION:2.0
PRODID:-//ChamberMaster//Event Calendar 2.0//EN
METHOD:PUBLISH
X-PUBLISHED-TTL:P3D
REFRESH-INTERVAL:P3D
CALSCALE:GREGORIAN
BEGIN:VEVENT
DTSTART:20181211T010000Z
DTEND:20181211T020000Z
X-MICROSOFT-CDO-ALLDAYEVENT:FALSE
SUMMARY:Aerospace Council: An overview of the Aeronautical Repair Station Association (ARSA)\, 8 am
DESCRIPTION:The Aerospace Council will convene on December 11 for a discussion by Mr. Jim Grunewald\, Co-chairman of the AMCHAM Aerospace Council. He will discuss the Aeronautical Repair Station Association (ARSA)\, and the recent regulatory victories in the US Congress that benefit MRO companies from the FAA reauthorization bill.\n\n\n\nThe briefing will provide insight into the issues which are currently being discussed in the MRO industry\, such as:\n\n  ARSA's position as the voice of the $75B global aviation maintenance industry\;\n\n  Regular members companies that hold FAA part 145 certificates or equivalent certification from a civil aviation authority\;\n\n  Membership\, which includes airlines\, manufacturers\, other companies with interest in maintenance\, schools\, individuals\; and\n\n  an overview of the 400 members representing 520+ certificates.
X-ALT-DESC;FMTTYPE=text/html:The Aerospace Council will convene on December 11 for a discussion by Mr. Jim Grunewald\, Co-chairman of the AMCHAM Aerospace Council. He will discuss the Aeronautical Repair Station Association (ARSA)\, and the recent regulatory victories in the US Congress that benefit MRO companies from the FAA reauthorization bill.<br />\n<br />\nThe briefing will provide insight into the issues which are currently being discussed in the MRO industry\, such as:<br />\n&bull\; ARSA&#39\;s position as the voice of the $75B global aviation maintenance industry\;<br />\n&bull\; Regular members companies that hold FAA part 145 certificates or equivalent certification from a civil aviation authority\;<br />\n&bull\; Membership\, which includes airlines\, manufacturers\, other companies with interest in maintenance\, schools\, individuals\; and<br />\n&bull\; an overview of the 400 members representing 520+ certificates.<br />\n&nbsp\;
LOCATION:AMCHAM Office (BTS Ploenchit)\, Citi Boardroom
UID:e.3314.91
SEQUENCE:3
DTSTAMP:20260424T012828Z
URL:http://www.connect.amchamthailand.com/events/details/aerospace-council-an-overview-of-the-aeronautical-repair-station-association-arsa-8-am-91
END:VEVENT

END:VCALENDAR
