BEGIN:VCALENDAR
VERSION:2.0
PRODID:-//ChamberMaster//Event Calendar 2.0//EN
METHOD:PUBLISH
X-PUBLISHED-TTL:P3D
REFRESH-INTERVAL:P3D
CALSCALE:GREGORIAN
BEGIN:VEVENT
DTSTART:20210816T013000Z
DTEND:20210816T023000Z
X-MICROSOFT-CDO-ALLDAYEVENT:FALSE
SUMMARY:Aerospace Council: August 2021 Videoconference
DESCRIPTION:This is an opportunity for aerospace industry members to connect and freely exchange ideas and information. At the meeting\, Ian Pascoe\, Managing Partner of Grant Thornton Thailand\, will discuss the Nok Air business rehabilitation case\, which is currently being heard in the Central Bankruptcy Court. Grant Thornton is Nok Air's business rehabilitation plan preparer.\n\n\n\nIn addition\, the council leaders will update on the current industry situation\, followed by a general free flow discussion on the state of the Thai and regional aviation industry. They will also discuss future meeting agendas.
X-ALT-DESC;FMTTYPE=text/html:This is an opportunity for aerospace industry members to connect and freely exchange ideas and information. At the meeting\, Ian Pascoe\, Managing Partner of Grant Thornton Thailand\, will discuss the Nok Air business rehabilitation case\, which is currently being heard in the Central Bankruptcy Court. Grant Thornton is Nok Air&#39\;s business rehabilitation plan preparer.<br />\n<br />\nIn addition\, the council leaders will update on the current industry situation\, followed by a general free flow discussion on the state of the Thai and regional aviation industry. They&nbsp\;will also discuss future meeting agendas.
LOCATION:Videoconference
UID:e.3314.1961
SEQUENCE:3
DTSTAMP:20260421T174743Z
URL:http://www.connect.amchamthailand.com/events/details/aerospace-council-august-2021-videoconference-1961
END:VEVENT

END:VCALENDAR
