BEGIN:VCALENDAR
VERSION:2.0
PRODID:-//ChamberMaster//Event Calendar 2.0//EN
METHOD:PUBLISH
X-PUBLISHED-TTL:P3D
REFRESH-INTERVAL:P3D
CALSCALE:GREGORIAN
BEGIN:VEVENT
DTSTART:20190211T010000Z
DTEND:20190211T023000Z
X-MICROSOFT-CDO-ALLDAYEVENT:FALSE
SUMMARY:Aerospace Council: BOI Industrial Linkage Development Division and plan for inputs for EEC meeting
DESCRIPTION:"Come join the AMCHAM Aerospace Council monthly meeting. The agenda for the meeting is twofold.\n\nFirst\, Mr. Jim Grunewald\, the Council's chairmen will present a debrief of the meeting with the BOI's Industrial Linkage Development Division and the services they offer to connect competitive Thai SME's and large manufactures with parts and component suppliers.\n\nSecond\, we will get the Council inputs for a planned March meeting with Dr. Luxmon Attapich\, Deputy Secretary General of Eastern Economic Corridor (EEC) Office Thailand. Dr. Luxmon is very interested in hearing from the Council and this planning session will gather the Council inputs on how best to get our advice to the EEC leadership.\n\nPlease register early\, as we anticipate this to be a superb opportunity to get actionable information on the Aerospace Council's 2019 priority issues.
X-ALT-DESC;FMTTYPE=text/html:<p>&quot\;Come join the AMCHAM Aerospace Council monthly meeting. The agenda for the meeting is twofold.</p>\n\n<p>First\, Mr. Jim Grunewald\, the Council&rsquo\;s chairmen will present a debrief of the meeting with the BOI&rsquo\;s Industrial Linkage Development Division and the services they offer to connect competitive Thai SME&rsquo\;s and large manufactures with parts and component suppliers.</p>\n\n<p>Second\, we will get the Council inputs for a planned March meeting with&nbsp\;Dr.&nbsp\;Luxmon Attapich\, Deputy Secretary General of Eastern Economic Corridor (EEC) Office Thailand.&nbsp\;Dr. Luxmon is very interested in hearing from the Council and this planning session will gather the Council inputs on how best to get our advice to the EEC leadership.</p>\n\n<p>Please register early\, as we anticipate this to be a superb opportunity to get actionable information on the Aerospace Council&rsquo\;s 2019 priority issues.</p>\n
LOCATION:AMCHAM Office (BTS Ploenchit)\, Citi Boardroom
UID:e.3314.188
SEQUENCE:3
DTSTAMP:20260424T000606Z
URL:http://www.connect.amchamthailand.com/events/details/aerospace-council-boi-industrial-linkage-development-division-and-plan-for-inputs-for-eec-meeting-188
END:VEVENT

END:VCALENDAR
