BEGIN:VCALENDAR
VERSION:2.0
PRODID:-//ChamberMaster//Event Calendar 2.0//EN
METHOD:PUBLISH
X-PUBLISHED-TTL:P3D
REFRESH-INTERVAL:P3D
CALSCALE:GREGORIAN
BEGIN:VEVENT
DTSTART:20220207T013000Z
DTEND:20220207T023000Z
X-MICROSOFT-CDO-ALLDAYEVENT:FALSE
SUMMARY:Aerospace Council: February 2022 Video Conference
DESCRIPTION:This month's opportunity for aerospace industry members to connect and freely exchange ideas and information. At the meeting\, the council leaders will update on the current industry situation\, followed by a presentation from Mr. Thomas Cochelin\, Head of Procurement\, Asia Pacific for Airbus on "Thailand's Outlook for Aerospace Supply Chain 2022: Opportunities and Challenges" with a period for questions and discussion. General free flow exchange on the state of the Thai and regional aviation industry will follow. They will also discuss future initiatives and meeting agendas. Please join us for an engaging and informative council meeting.\n\n\n\nAbout the speaker\n\nMr. Thomas Cochelin is Head of Procurement Asia Pacific for Airbus\, based in Singapore since August 2020\, and established the Airbus Regional Procurement Office for Asia Pacific. Since 2010\, based in the UK and then in France\, he led several large Material and Parts Procurement Commodities for Airbus and its worldwide supply chain. Prior to these roles\, Thomas held several positions in Cabin Program and A350 System Engineering development\, since he joined Airbus in 2005 in Germany. He started his career in 2001 in the smart cards division of Schlumberger (now Thales Digital Identity and Security) in Spain. Thomas graduated from CentraleSupelec (Paris\, France) and Universidad Politecnica de Madrid (Spain).
X-ALT-DESC;FMTTYPE=text/html:<p>This month&rsquo\;s opportunity for aerospace industry members to connect and freely exchange ideas and information. At the meeting\, the council leaders will update on the current industry situation\, followed by a presentation from Mr. Thomas Cochelin\, Head of Procurement\, Asia Pacific for Airbus on &ldquo\;Thailand&rsquo\;s Outlook for Aerospace Supply Chain 2022: Opportunities and Challenges&rdquo\; with a period for questions and discussion.&nbsp\;General free flow exchange on the state of the Thai and regional aviation industry will follow. They will also discuss future initiatives and meeting agendas.&nbsp\;Please join us for an engaging and informative council meeting.<br />\n<br />\n<strong>About the speaker</strong><br />\n<a background-color:="" font-size:="" href="https://sg.linkedin.com/in/thomas-cochelin-ba98484" trebuchet="">Mr. Thomas Cochelin</a>&nbsp\;is Head of Procurement Asia Pacific for Airbus\, based in Singapore since August 2020\, and established the Airbus Regional Procurement Office for Asia Pacific.&nbsp\;Since 2010\, based in the UK and then in France\, he led several large Material and Parts Procurement Commodities for Airbus and its worldwide supply chain.&nbsp\;Prior to these roles\, Thomas held several positions in Cabin Program and A350 System Engineering development\, since he joined Airbus in 2005 in Germany. He started his career in 2001 in the smart cards division of Schlumberger (now Thales Digital Identity and Security) in Spain.&nbsp\;Thomas graduated from CentraleSupelec (Paris\, France) and Universidad Politecnica de Madrid (Spain).<span style="font-size:11.5pt\;"> </span></p>\n
LOCATION:Video conference
UID:e.3314.2100
SEQUENCE:3
DTSTAMP:20260421T051839Z
URL:http://www.connect.amchamthailand.com/events/details/aerospace-council-february-2022-video-conference-2100
END:VEVENT

END:VCALENDAR
