BEGIN:VCALENDAR
VERSION:2.0
PRODID:-//ChamberMaster//Event Calendar 2.0//EN
METHOD:PUBLISH
X-PUBLISHED-TTL:P3D
REFRESH-INTERVAL:P3D
CALSCALE:GREGORIAN
BEGIN:VEVENT
DTSTART:20220110T013000Z
DTEND:20220110T023000Z
X-MICROSOFT-CDO-ALLDAYEVENT:FALSE
SUMMARY:Aerospace Council: January 2022 Video Conference
DESCRIPTION:This is an opportunity for aerospace industry members to connect and freely exchange ideas and information. At the meeting\, Klaus Hofmann\, Vice President/General Manager at Air Cargo Equipment Cargo & Catering Equipment Division / Safran Cabin\, will be the special guest of this month. \n\n\n\nIn addition\, the council leaders will update on the current industry situation\, followed by a general free flow discussion on the state of the Thai and regional aviation industry. They will also discuss the future meeting agendas.
X-ALT-DESC;FMTTYPE=text/html:This is an opportunity for aerospace industry members to connect and freely exchange ideas and information. At the meeting\, <a href="http://linkedin.com/in/klaus-hofmann-95090483">Klaus Hofmann</a>\,&nbsp\;Vice President/General Manager at Air Cargo Equipment Cargo &amp\; Catering Equipment Division / Safran Cabin\, will be the special guest of this month.&nbsp\;<br />\n<br background-color:="" color:="" font-size:="" open="" />\nIn addition\, the council leaders will update on the current industry situation\, followed by a general free flow discussion on the state of the Thai and regional aviation industry. They&nbsp\;will also discuss the future meeting agendas.
LOCATION:Video conference
UID:e.3314.2096
SEQUENCE:3
DTSTAMP:20260421T070631Z
URL:http://www.connect.amchamthailand.com/events/details/aerospace-council-january-2022-video-conference-2096
END:VEVENT

END:VCALENDAR
