BEGIN:VCALENDAR
VERSION:2.0
PRODID:-//ChamberMaster//Event Calendar 2.0//EN
METHOD:PUBLISH
X-PUBLISHED-TTL:P3D
REFRESH-INTERVAL:P3D
CALSCALE:GREGORIAN
BEGIN:VEVENT
DTSTART:20230105T070000Z
DTEND:20230105T080000Z
X-MICROSOFT-CDO-ALLDAYEVENT:FALSE
SUMMARY:Aerospace Council: January 2023 Hybrid Meeting
DESCRIPTION:This month's opportunity for aerospace industry members to connect and freely exchange ideas and information. At the meeting\, the council leaders will update on the current industry situation\, followed by a general free flow discussion on the state of the Thai and regional aviation industry. They will also discuss future initiatives and meeting agendas.
X-ALT-DESC;FMTTYPE=text/html:<span style="color: rgb(68\, 68\, 68)\;">This month&rsquo\;s opportunity for aerospace industry members to connect and freely exchange ideas and information. At the meeting\, the council leaders will update on the current industry situation\, followed by a general free flow discussion on the state of the Thai and regional aviation industry. They&nbsp\;will also discuss future initiatives and meeting agendas.</span>
LOCATION:Video Conference or Meeting Room 12A.1 at True Digital Park\, Griffin Building\, 12Ath Floor BTS: Punnawithi (direct exit to True Digital Park) For directions to the Griffin Building\, click here.
UID:e.3314.2361
SEQUENCE:3
DTSTAMP:20260420T105214Z
URL:http://www.connect.amchamthailand.com/events/details/aerospace-council-january-2023-hybrid-meeting-2361
END:VEVENT

END:VCALENDAR
