BEGIN:VCALENDAR
VERSION:2.0
PRODID:-//ChamberMaster//Event Calendar 2.0//EN
METHOD:PUBLISH
X-PUBLISHED-TTL:P3D
REFRESH-INTERVAL:P3D
CALSCALE:GREGORIAN
BEGIN:VEVENT
DTSTART:20200730T070000Z
DTEND:20200730T080000Z
X-MICROSOFT-CDO-ALLDAYEVENT:FALSE
SUMMARY:Aerospace Council: July 2020 Video Conference
DESCRIPTION:The Aerospace Council will convene on July 30 with the following agenda:\n\n\n	Restart the Aerospace Council for year 2020\n	Discussion of present events\, leadership and direction of the Aerospace Council.\n	Discussion of information sharing related to our industry   especially on Covid-19 issues/problems with local airlines Thai Airways and NokScoot.\n	Update on pending issues   status of the Thailand Aviation Society\, Aviation Round Table and the new Thai Aerospace Manufacturing Industries Association (TAMIA) starting up. Look at other regional associations like Singapore (Association of Aerospace Industries) and Philippines (Aerospace Industries Association of the Philippines Inc.)   how to get Thailand something like this.\n	Information sharing among members (Supply Chain\, Logistics\, Chemical Management\, Training\, Safety\, EH&S/Safety)\n	Other matters\n\nAll AMCHAM members are welcome to attend the Aerospace Council meetings to stay abreast of the policy priorities that AMCHAM advocates for on behalf of members. Advance registration is necessary\, as we do not accept walk-ins or non-member guests for these meetings.\n\n\n\nTo continue to receive updates on our meetings and activities\, or to request to join the Council\, please contact kittie@amchamthailand.com.
X-ALT-DESC;FMTTYPE=text/html:<p>The Aerospace Council will convene on July 30 with the following agenda:</p>\n\n<ul type="disc">\n	<li>Restart the Aerospace Council for year 2020</li>\n	<li>Discussion of present events\, leadership and direction of the Aerospace Council.</li>\n	<li>Discussion of information sharing related to our industry &ndash\; especially on Covid-19 issues/problems with local airlines Thai Airways and NokScoot.</li>\n	<li>Update on pending issues &ndash\; status of the Thailand Aviation Society\, Aviation Round Table and the new Thai Aerospace Manufacturing Industries Association (TAMIA) starting up. Look at other regional associations like Singapore (Association of Aerospace Industries) and Philippines (Aerospace Industries Association of the Philippines Inc.) &ndash\; how to get Thailand something like this.</li>\n	<li>Information sharing among members (Supply Chain\, Logistics\, Chemical Management\, Training\, Safety\, EH&amp\;S/Safety)</li>\n	<li>Other matters</li>\n</ul>\nAll AMCHAM members are welcome to attend the Aerospace Council meetings to stay abreast of the policy priorities that AMCHAM advocates for on behalf of members. Advance registration is necessary\, as we do not accept walk-ins or non-member guests for these meetings.<br />\n<br />\nTo continue to receive updates on our meetings and activities\, or to request to join the Council\, please contact <a href="mailto:kittie@amchamthailand.com">kittie@amchamthailand.com</a>.
LOCATION:Video conference meeting Members only
UID:e.3314.1648
SEQUENCE:3
DTSTAMP:20260422T163228Z
URL:http://www.connect.amchamthailand.com/events/details/aerospace-council-july-2020-video-conference-1648
END:VEVENT

END:VCALENDAR
