BEGIN:VCALENDAR
VERSION:2.0
PRODID:-//ChamberMaster//Event Calendar 2.0//EN
METHOD:PUBLISH
X-PUBLISHED-TTL:P3D
REFRESH-INTERVAL:P3D
CALSCALE:GREGORIAN
BEGIN:VEVENT
DTSTART:20231027T093000Z
DTEND:20231027T110000Z
X-MICROSOFT-CDO-ALLDAYEVENT:FALSE
SUMMARY:Aerospace Council: Navigating the Path - SMEs in Thailand’s U-Tapao Project and the EEC
DESCRIPTION:Led by the AMCHAM Aerospace Council\, this panel will delve into the critical role of Small and Medium Aerospace Enterprises (SMEs) in Thailand's ambitious U-Tapao International Airport Expansion Project and the broader Eastern Economic Corridor (EEC). We'll explore how SMEs can position themselves effectively\, even while awaiting the ultimate direction of this transformative initiative. Join us as we discuss strategies\, challenges\, and opportunities for SMEs to thrive in this dynamic landscape.\n\n\n\nOur Panelists:\n\n	Matthew Gaudion\, General Manager\, Qarbon Aerospace\n	Todd Siena\, Founder & CEO\, Block Aero Technologies Holdings\n	Ronald Brickerd\, Managing Director\, BTAS Aerospace\n	Barry Crawford\, Director\, Triump Aviation Services\n\n\n\nDiscussion will be moderated by Frank Timmons\, Senior Manager\, Tractus
X-ALT-DESC;FMTTYPE=text/html:Led by the AMCHAM Aerospace Council\, this panel will delve into the critical role of Small and Medium Aerospace Enterprises (SMEs) in Thailand&rsquo\;s ambitious U-Tapao International Airport Expansion Project and the broader Eastern Economic Corridor (EEC). We&rsquo\;ll explore how SMEs can position themselves effectively\, even while awaiting the ultimate direction of this transformative initiative. Join us as we discuss strategies\, challenges\, and opportunities for SMEs to thrive in this dynamic landscape.<br />\n<br />\n<strong>Our Panelists:</strong>\n<ul>\n	<li><strong><a href="https://www.linkedin.com/in/matthew-gaudion/">Matthew Gaudion</a></strong>\, General Manager\, Qarbon Aerospace</li>\n	<li><strong><a href="https://www.linkedin.com/in/jtsiena/">Todd Siena</a></strong>\,&nbsp\;Founder &amp\; CEO\, Block Aero Technologies Holdings</li>\n	<li><strong><a href="https://www.linkedin.com/in/ronald-brickerd/">Ronald Brickerd</a></strong>\, Managing Director\, BTAS Aerospace</li>\n	<li><strong><a href="https://www.linkedin.com/in/barry-m-crawford/">Barry Crawford</a></strong>\, Director\, Triump Aviation Services</li>\n</ul>\n<br />\nDiscussion will be moderated by&nbsp\;<a href="https://www.linkedin.com/in/franklin-timmons/">Frank Timmons</a>\, Senior Manager\, Tractus
LOCATION:Holiday Inn Pattaya\, Auditorium
UID:e.3314.2644
SEQUENCE:3
DTSTAMP:20260419T165843Z
URL:http://www.connect.amchamthailand.com/events/details/aerospace-council-navigating-the-path-smes-in-thailand-s-u-tapao-project-and-the-eec-2644
END:VEVENT

END:VCALENDAR
