BEGIN:VCALENDAR
VERSION:2.0
PRODID:-//ChamberMaster//Event Calendar 2.0//EN
METHOD:PUBLISH
X-PUBLISHED-TTL:P3D
REFRESH-INTERVAL:P3D
CALSCALE:GREGORIAN
BEGIN:VEVENT
DTSTART:20211115T013000Z
DTEND:20211115T023000Z
X-MICROSOFT-CDO-ALLDAYEVENT:FALSE
SUMMARY:Aerospace Council: November 2021 Video Conference
DESCRIPTION:This month's opportunity for aerospace industry members to connect and freely exchange ideas and information. At the meeting\, the council leaders will update on the current industry situation\, followed by a general free flow discussion on the state of the Thai and regional aviation industry. They will also discuss future initiatives and meeting agendas.
X-ALT-DESC;FMTTYPE=text/html:This month&rsquo\;s opportunity for aerospace industry members to connect and freely exchange ideas and information. At the meeting\, the council leaders will update on the current industry situation\, followed by a general free flow discussion on the state of the Thai and regional aviation industry. They&nbsp\;will also discuss future initiatives and meeting agendas.
LOCATION:Video conference
UID:e.3314.2002
SEQUENCE:3
DTSTAMP:20260421T123120Z
URL:http://www.connect.amchamthailand.com/events/details/aerospace-council-november-2021-video-conference-2002
END:VEVENT

END:VCALENDAR
