BEGIN:VCALENDAR
VERSION:2.0
PRODID:-//ChamberMaster//Event Calendar 2.0//EN
METHOD:PUBLISH
X-PUBLISHED-TTL:P3D
REFRESH-INTERVAL:P3D
CALSCALE:GREGORIAN
BEGIN:VEVENT
DTSTART:20200921T013000Z
DTEND:20200921T023000Z
X-MICROSOFT-CDO-ALLDAYEVENT:FALSE
SUMMARY:Aerospace Council: September 2020 Video Conference
DESCRIPTION:Come join the AMCHAM Aerospace Council monthly meeting.\n\n \n\nMr. Ronald Brickerd\, Managing Director\, Thayaan Aviation Consultants Group will update on Aerospace issues\, including the Thai government's announcement of "soft" loans for the industry   effect to the local operators. He'll also update on Covid-19 travel issues affecting incoming tourism (November   December timeframe).\n\n \n\nThe committee leaders will provide updates on:\n\n- Review from last meeting.\n\n- Update on Thai Airways "The Central Bankruptcy Court (the "Court") has issued orders for business rehabilitation of Thai Airways International Public Company Limited ("THAI") and appointment of the planners proposed by THAI on September 14\, 2020" and the effects on the local aviation industry.\n\n- Other local news updates.\n\n- Schedule for Thailand Aviation Society network event for end of October or early November.\n\n- Next schedule for speakers.\n\n- Schedule for MRO Asia Pacific 2020 (virtual event)   to be held in September 22-24. \n\n- Other matters.\n\n\n\nAll AMCHAM members are welcome to attend the Aerospace Council meetings to stay abreast of the policy priorities that AMCHAM advocates on behalf of members.\n\n\n\nTo continue to receive updates on our meetings and activities\, or to request to join the Council\, please contact kittie@amchamthailand.com
X-ALT-DESC;FMTTYPE=text/html:<p open="">Come join the AMCHAM Aerospace Council monthly meeting.<br />\n&nbsp\;<br />\n<a href="https://urldefense.com/v3/__https:/th.linkedin.com/in/ronald-brickerd__\;!!G6lwn0f4sEoq!BytAhZrZyPSowbzjDYYDaojL9UuWWoF4Ovr1R6eJ501MmpeUsIfQg885DNj2tNADDUs71g$">Mr. Ronald Brickerd</a>\, Managing Director\, Thayaan Aviation Consultants Group will update on Aerospace issues\, including the Thai government&rsquo\;s announcement of &ldquo\;soft&rdquo\; loans for the industry &ndash\; effect to the local operators. He&rsquo\;ll also update on Covid-19 travel issues affecting incoming tourism (November &ndash\; December timeframe).<br />\n&nbsp\;<br />\nThe committee leaders will provide updates on:<br />\n-&nbsp\;Review from last meeting.<br />\n-&nbsp\;Update on Thai Airways &ldquo\;The Central Bankruptcy Court (the &ldquo\;Court&rdquo\;) has issued orders for business rehabilitation of Thai Airways International Public Company Limited (&ldquo\;THAI&rdquo\;) and appointment of the planners proposed by THAI on September 14\, 2020&rdquo\; and the effects on the local aviation industry.<br />\n-&nbsp\;Other local news updates.<br />\n-&nbsp\;Schedule for Thailand Aviation Society network event for end of October or early November.<br />\n-&nbsp\;Next schedule for speakers.<br />\n-&nbsp\;Schedule for MRO Asia Pacific 2020 (virtual event) &ndash\; to be held in September 22-24.&nbsp\;<br />\n-&nbsp\;Other matters.<br />\n<br />\nAll AMCHAM members are welcome to attend the Aerospace Council meetings to stay abreast of the policy priorities that AMCHAM advocates on behalf of members.<br />\n<br />\nTo continue to receive updates on our meetings and activities\, or to request to join the Council\, please contact&nbsp\;<a href="mailto:kittie@amchamthailand.com">kittie@amchamthailand.com</a></p>\n
LOCATION:Video conference meeting Members only
UID:e.3314.1702
SEQUENCE:3
DTSTAMP:20260422T130324Z
URL:http://www.connect.amchamthailand.com/events/details/aerospace-council-september-2020-video-conference-1702
END:VEVENT

END:VCALENDAR
