BEGIN:VCALENDAR
VERSION:2.0
PRODID:-//ChamberMaster//Event Calendar 2.0//EN
METHOD:PUBLISH
X-PUBLISHED-TTL:P3D
REFRESH-INTERVAL:P3D
CALSCALE:GREGORIAN
BEGIN:VEVENT
DTSTART:20201019T013000Z
DTEND:20201019T023000Z
X-MICROSOFT-CDO-ALLDAYEVENT:FALSE
SUMMARY:Aerospace Council: State of the Thai Aviation Industry: A View from an Airline Executive
DESCRIPTION:Aviation is among the industries hardest hit by Covid-19. This is no exception in tourism-reliant Thailand. The next Aerospace Council meeting will discuss how Thai airlines are coping\, and what their strategies are for the future.\n\n \n\nGuest speaker Patee Sarasin\, former CEO and Vice Chairman at Nok Airlines Public Co.\, Ltd \, also CEO of a travel company- Really Really Cool Co.\, Ltd. will provide an update on the state of airlines in Thailand\, as well as government actions to alleviate the problems facing airlines and the tourism sector as a whole. Patee is well known in the industry and is uniquely positioned to make the case to the Thai government.\n\n\n\nThere will be enough time for an in depth question and answer session along with normal update of present issues affecting our section\, including recent EEC/U-Tapao announcements.\n\n \n\nAll AMCHAM members are welcome to attend the Aerospace Council meetings to stay abreast of the policy priorities that AMCHAM advocates on behalf of members.\n\n\n\nTo continue to receive updates on our meetings and activities\, or to request to join the Council\, please contact kittie@amchamthailand.com
X-ALT-DESC;FMTTYPE=text/html:<p open="">Aviation is among the industries hardest hit by Covid-19. This is no exception in tourism-reliant Thailand. The next Aerospace Council meeting will discuss how Thai airlines are coping\, and what their strategies are for the future.<br />\n&nbsp\;<br />\nGuest speaker&nbsp\;Patee Sarasin\, former CEO and Vice Chairman at Nok Airlines Public Co.\, Ltd \, also CEO of a travel company- Really Really Cool Co.\, Ltd.&nbsp\;will provide an update on the state of airlines in Thailand\, as well as government actions to alleviate the problems facing airlines and the tourism sector as a whole. Patee is well known in the industry and is uniquely positioned to make the case to the Thai government.<br />\n<br />\nThere will be enough&nbsp\;time for an in depth question and answer session along with&nbsp\;normal update of present issues affecting our section\, including recent EEC/U-Tapao announcements.<br />\n&nbsp\;<br />\nAll AMCHAM members are welcome to attend the Aerospace Council meetings to stay abreast of the policy priorities that AMCHAM advocates on behalf of members.<br />\n<br />\nTo continue to receive updates on our meetings and activities\, or to request to join the Council\, please contact&nbsp\;<a href="mailto:kittie@amchamthailand.com">kittie@amchamthailand.com</a></p>\n
LOCATION:Video conference meeting Members only
UID:e.3314.1713
SEQUENCE:3
DTSTAMP:20260422T112823Z
URL:http://www.connect.amchamthailand.com/events/details/aerospace-council-state-of-the-thai-aviation-industry-a-view-from-an-airline-executive-1713
END:VEVENT

END:VCALENDAR
