BEGIN:VCALENDAR
VERSION:2.0
PRODID:-//ChamberMaster//Event Calendar 2.0//EN
METHOD:PUBLISH
X-PUBLISHED-TTL:P3D
REFRESH-INTERVAL:P3D
CALSCALE:GREGORIAN
BEGIN:VEVENT
DTSTART:20210120T070000Z
DTEND:20210120T080000Z
X-MICROSOFT-CDO-ALLDAYEVENT:FALSE
SUMMARY:Aerospace Council: State of the Thai Aviation Industry: A View from the CAAT
DESCRIPTION:Aviation is among the industries hardest hit by Covid-19 and this latest resurgence of the virus and new round of domestic and international travel restrictions may have a more devastating impact than last year's closures.\n\n\n\nOur next Aerospace Council meeting will discuss how Thai aviation companies are coping\, what their strategies are for the future\, and what the government can do to help.  \n\n \n\nWe will have insight from guest speaker Dr. Sarun Benjanirat\, Acting Director General of the Civil Aviation Authority of Thailand. He will provide an update on the state of the industry in Thailand\, as well as government actions to alleviate the problems facing airlines and the tourism sector as a whole. \n\n \n\nWe will have time for an in depth question and answer session along with our normal update of present issues affecting our community.
X-ALT-DESC;FMTTYPE=text/html:Aviation is among the industries hardest hit by Covid-19 and this latest resurgence of the virus and new round of domestic and international travel restrictions may have a more devastating impact than last year&rsquo\;s closures.<br />\n<br />\nOur next Aerospace Council meeting will discuss how Thai aviation companies are coping\, what their strategies are for the future\, and what the government can do to help. &nbsp\;<br />\n&nbsp\;<br />\nWe will have insight from guest speaker Dr. Sarun Benjanirat\, Acting Director General of the Civil Aviation Authority of Thailand. He&nbsp\;will provide an update on the state of the industry in Thailand\, as well as government actions to alleviate the problems facing airlines and the tourism sector as a whole.&nbsp\;<br />\n&nbsp\;<br />\nWe will have time for an in depth question and answer session along with our normal update of present issues affecting our community.
LOCATION:Video Conference
UID:e.3314.1800
SEQUENCE:3
DTSTAMP:20260422T063334Z
URL:http://www.connect.amchamthailand.com/events/details/aerospace-council-state-of-the-thai-aviation-industry-a-view-from-the-caat-1800
END:VEVENT

END:VCALENDAR
