BEGIN:VCALENDAR
VERSION:2.0
PRODID:-//ChamberMaster//Event Calendar 2.0//EN
METHOD:PUBLISH
X-PUBLISHED-TTL:P3D
REFRESH-INTERVAL:P3D
CALSCALE:GREGORIAN
BEGIN:VEVENT
DTSTART:20191021T010000Z
DTEND:20191021T023000Z
X-MICROSOFT-CDO-ALLDAYEVENT:FALSE
SUMMARY:Aerospace Council: Update on the MRO regulations for Thailand
DESCRIPTION:The demand for air transport has surged in Thailand\, boosting demand for MRO services to US$ 974 million in 2018. On the contrary\, supply of MRO services is still inadequate\, serving only 40% of the demand. Therefore\, there is huge potential to business development. Thailand offers new investment opportunities in aviation\, logistics\, and the manufacturing of aircraft parts.  However\, some of these opportunities have been limited by provisions of the Air Navigation Act of 2497 (1954 AD).\n\n\n\nIn July\, the government approved new guidelines and authorities to the Civil Aviation Administration Thailand in regards to the "Characteristics Relating to the Registered Capital and Business Management Power of an Applicant for an Aircraft Production License\, a Major Aircraft Appliances Production License and an Applicant for a Repair Station Certificate".\n\n\n\nCome and join the Aerospace Council meeting to learn more about the recent changes to the Air Navigation Act of Thailand.\n\n \n\nAbout the Speaker\n\nRonald Brickerd founded Thayaan Aviation Consultants Group as an Amity Company in 2016 and serves as the company's Managing Director.\n\n\n\nTogether with his business partner\, Ron has built an international team of consultants committed to improving the aviation industry in Thailand and Southeast Asia.  They have enacted projects within airlines in Thailand\, Indonesia and Cambodia as well as having developed a new maintenance repair organization in Thailand.\n\n\n\nRon holds a Master's Degree in Business Administration Aviation\, with a specialization in Aviation Finance and International Business as well as Bachelor's Degree in Professional Aeronautics from Embry-Riddle Aeronautical University. \n\n\n\nHe retired from the US Air Force in 2009 after nearly 25 years of active duty. He has resided in Thailand since 2006.
X-ALT-DESC;FMTTYPE=text/html:<p>The demand for air transport has surged in Thailand\, boosting demand for MRO services to US$ 974 million in 2018. On the contrary\, supply of MRO services is still inadequate\, serving only 40% of the demand. Therefore\, there is huge potential to business development. Thailand offers new investment opportunities in aviation\, logistics\, and the manufacturing of aircraft parts.&nbsp\; However\, some of these opportunities have been limited by provisions of the Air Navigation Act of 2497 (1954 AD).<br />\n<br />\nIn July\, the government approved new guidelines and authorities to the Civil Aviation Administration Thailand in regards to the &ldquo\;Characteristics Relating to the Registered Capital and Business Management Power of an Applicant for an Aircraft Production License\, a Major Aircraft Appliances Production License and an Applicant for a Repair Station Certificate&rdquo\;.<br />\n<br />\nCome and join the Aerospace Council meeting to learn more about the recent changes to the Air Navigation Act of Thailand.<br />\n&nbsp\;<br />\n<strong>About the Speaker</strong><br />\nRonald Brickerd founded Thayaan Aviation Consultants Group as an Amity Company in 2016 and serves as the company&rsquo\;s Managing Director.<br />\n<br />\nTogether with his business partner\, Ron has built an international team of consultants committed to improving the aviation industry in Thailand and Southeast Asia.&nbsp\; They have enacted projects within airlines in Thailand\, Indonesia and Cambodia as well as having developed a new maintenance repair organization in Thailand.<br />\n<br />\nRon holds a Master&#39\;s Degree in Business Administration Aviation\, with a specialization in Aviation Finance and International Business as well as Bachelor&rsquo\;s Degree in Professional Aeronautics from Embry-Riddle Aeronautical University.&nbsp\;<br />\n<br />\nHe retired from the US Air Force in 2009 after nearly 25 years of active duty. He has resided in Thailand since 2006.</p>\n
LOCATION:AMCHAM Office (BTS Ploenchit)\, Citi Boardroom
UID:e.3314.245
SEQUENCE:3
DTSTAMP:20260423T091353Z
URL:http://www.connect.amchamthailand.com/events/details/aerospace-council-update-on-the-mro-regulations-for-thailand-245
END:VEVENT

END:VCALENDAR
