BEGIN:VCALENDAR
VERSION:2.0
PRODID:-//ChamberMaster//Event Calendar 2.0//EN
METHOD:PUBLISH
X-PUBLISHED-TTL:P3D
REFRESH-INTERVAL:P3D
CALSCALE:GREGORIAN
BEGIN:VEVENT
DTSTART:20231025T050000Z
DTEND:20231025T090000Z
X-MICROSOFT-CDO-ALLDAYEVENT:FALSE
SUMMARY:AGM Luncheon with Honored Guest H.E. Prime Minister Srettha Thavisin
DESCRIPTION:AMCHAM is pleased to welcome members to the AMCHAM Annual General Meeting and New Member Orientation Luncheon on October 25th. \n\n\n\nFollowing lunch\, we will be honored by an address from H.E. Mr. Srettha Thavisin\, the Prime Minister and Minister of Finance of Thailand.\n\n\n\nWe will kick off the AGM with the closing of the 2023 Board Election and the announcement of the 2024/2025 Board of Governors.  \n\n\n\nThe announcement is followed by a chance for members to connect with their peers and learn how to make the most of your AMCHAM membership. This orientation is the perfect opportunity for all members - old and new - to gain valuable insight into all of the Chamber's offerings. \n\n\n\nAfter lunch\, we will be joined by the Prime Minister to address us on his vision for Thailand in the coming years\, his administration's policy priorities\, promoting foreign trade and investment and sustainable economic growth\, infrastructure development projects and strategies to boost Thailand's status as a tourism destination.  \n\n\n\n \n\nAgenda  \n\n\n\n12:00   Registration and Networking  \n\n12:30   Doors open for Luncheon\n\n13:00   AGM\, Elections Result Announcement\, New Member Introduction\n\n14:00   Networking and Committee Information Session\n\n14:30   Prepare for Prime Minister Arrival \n\n15:00   Prime Minister Speech   \n\n16:00   Meeting Close
X-ALT-DESC;FMTTYPE=text/html:<div font-size:="" segoe="" ui="">\n<div>\n<p paraeid="{6e7a777f-76f2-4332-9ada-afabc7fde902}{162}" paraid="830531452">AMCHAM is pleased to welcome members to&#8239\;the AMCHAM&#8239\;Annual General Meeting and&#8239\;New Member Orientation Luncheon on October 25th.&nbsp\;</p>\n</div>\n\n<div>\n<p paraeid="{6e7a777f-76f2-4332-9ada-afabc7fde902}{176}" paraid="960322978">Following lunch\, we will be honored by an address from H.E. Mr. Srettha Thavisin\, the Prime Minister and Minister of Finance of Thailand.</p>\n</div>\n\n<div>\n<p paraeid="{6e7a777f-76f2-4332-9ada-afabc7fde902}{194}" paraid="489923027">We will kick off the AGM with the closing of the 2023 Board Election and the announcement of the 2024/2025 Board of Governors.&#8239\;&nbsp\;</p>\n</div>\n\n<div>\n<p paraeid="{6e7a777f-76f2-4332-9ada-afabc7fde902}{200}" paraid="478981311">The announcement is followed by&#8239\;a chance for members to connect with&#8239\;their peers and learn how to make the most of your AMCHAM membership. This orientation&#8239\;is the perfect opportunity for&#8239\;all&#8239\;members - old and new -&#8239\;to gain valuable insight into all of the Chamber&#39\;s offerings.&nbsp\;</p>\n</div>\n\n<div>\n<p paraeid="{6e7a777f-76f2-4332-9ada-afabc7fde902}{206}" paraid="1358394540">After lunch\, we will be joined by the Prime Minister to address us on his vision for Thailand in the coming years\, his administration&#39\;s policy priorities\, promoting foreign trade and investment and sustainable economic growth\, infrastructure development projects and strategies to boost Thailand&#39\;s status as a tourism destination.&nbsp\;&nbsp\;</p>\n</div>\n\n<div>\n<p paraeid="{6e7a777f-76f2-4332-9ada-afabc7fde902}{214}" paraid="1624501587">&nbsp\;<br />\n<strong>Agenda&nbsp\;&nbsp\;</strong></p>\n</div>\n\n<div>\n<p><span class="ui-provider ec buw bfr bux buy buz bva bvb bvc bvd bve bvf bvg bvh bvi bvj bvk bvl bvm bvn bvo bvp bvq bvr bvs bvt bvu bvv bvw bvx bvy bvz bwa bwb bwc" dir="ltr">12:00&nbsp\; &nbsp\;Registration and Networking&nbsp\;&nbsp\;<br />\n12:30&nbsp\; &nbsp\;Doors open for Luncheon<br />\n13:00&nbsp\; &nbsp\;AGM\, Elections Result Announcement\, New Member Introduction<br />\n14:00&nbsp\;&nbsp\; Networking and Committee Information Session<br />\n14:30&nbsp\; &nbsp\;Prepare for Prime Minister Arrival&nbsp\;<br />\n15:00&nbsp\; &nbsp\;Prime Minister Speech&nbsp\;&nbsp\;&nbsp\;<br />\n16:00&nbsp\; &nbsp\;Meeting Close&nbsp\;&nbsp\;</span></p>\n\n<p>&nbsp\;</p>\n</div>\n\n<div>\n<p paraeid="{b98adec2-038a-4f87-944d-2f2a63222cf8}{23}" paraid="844885496">&nbsp\;&nbsp\;</p>\n</div>\n\n<div>\n<p paraeid="{b98adec2-038a-4f87-944d-2f2a63222cf8}{29}" paraid="1074350616">&nbsp\;</p>\n</div>\n</div>\n
LOCATION:The Athenee\, Crystal Hall\, Floor 3 BTS: Ploenchit
UID:e.3314.2469
SEQUENCE:3
DTSTAMP:20260419T165925Z
URL:http://www.connect.amchamthailand.com/events/details/agm-luncheon-with-honored-guest-h-e-prime-minister-srettha-thavisin-2469
END:VEVENT

END:VCALENDAR
