BEGIN:VCALENDAR
VERSION:2.0
PRODID:-//ChamberMaster//Event Calendar 2.0//EN
METHOD:PUBLISH
X-PUBLISHED-TTL:P3D
REFRESH-INTERVAL:P3D
CALSCALE:GREGORIAN
BEGIN:VEVENT
DTSTART:20181010T090000Z
DTEND:20181010T110000Z
X-MICROSOFT-CDO-ALLDAYEVENT:FALSE
SUMMARY:AMCHAM 101 - New Member Orientation
DESCRIPTION:ONLINE BOOKINGS CLOSED DUE TO WEB MIGRATION\n\nPLEASE EMAIL sheree@amchamthailand.com before noon 10 October or\n\nWALK-INS WELCOME!\n\nHave you just joined the AMCHAM Thailand family? Or have you been an AMCHAM member for some time but haven't had a chance to get closely involved with the Chamber? \n\n\n\nAMCHAM Thailand invites you to this free information session\, where you will learn the various ways to get involved with the Chamber\, from attending the Chamber?s 250+ events throughout the year to playing a leadership role in planning events\; from utilizing a wide range of business services to promoting your own services or products through the Chamber to target clients\; from reading our business publications to making editorial contributions. \n\n\n\nAMCHAM Thailand is a member-oriented business organization and we strive to be the leading international business association in Thailand together with our members' participation. Come and talk with other members to find out the best ways to get connected with the Chamber and get the best value out of your AMCHAM membership!\n\n\n\nWho should attend? This free session is open to all AMCHAM Thailand members who are seeking opportunities to get involved with the international business community in Bangkok.\n\n\n\nRegistration\, coffee and networking 4 pm\n\nBriefing Starts: 4:30 pm \n\nConcludes: 6 pm\n\n\n\nThe meeting is followed by the regular monthly networking night. Please register separately to attend.
X-ALT-DESC;FMTTYPE=text/html:<p style="margin-top: 10px\; margin-bottom: 10px\; padding: 0px 10px\; font-size: 0.9em\; line-height: 1.5\; font-family: verdana\, arial\, sans-serif\, helvetica\; background-color: rgb(255\, 255\, 255)\;"><strong><span style="color: rgb(128\, 0\, 0)\;">ONLINE BOOKINGS CLOSED DUE TO WEB MIGRATION</span></strong></p>\n\n<p style="margin-top: 10px\; margin-bottom: 10px\; padding: 0px 10px\; font-size: 0.9em\; line-height: 1.5\; font-family: verdana\, arial\, sans-serif\, helvetica\; background-color: rgb(255\, 255\, 255)\;"><strong><span style="color: rgb(128\, 0\, 0)\;">PLEASE EMAIL&nbsp\;<a href="mailto:sheree@amchamthailand.com" style="color: rgb(128\, 0\, 0)\; text-decoration-line: none\;">sheree@amchamthailand.com</a>&nbsp\;before noon 10 October or</span></strong></p>\n\n<p style="margin-top: 10px\; margin-bottom: 10px\; padding: 0px 10px\; font-size: 0.9em\; line-height: 1.5\; font-family: verdana\, arial\, sans-serif\, helvetica\; background-color: rgb(255\, 255\, 255)\;"><strong><span style="color: rgb(128\, 0\, 0)\;">WALK-INS&nbsp\;WELCOME!</span></strong></p>\n\n<p><span style="font-family: verdana\, arial\, sans-serif\, helvetica\; font-size: 11.7px\; background-color: rgb(255\, 255\, 255)\;">Have you just joined the AMCHAM Thailand family? Or have you been an AMCHAM member for some time but haven&#39\;t had a chance to get closely involved with the Chamber?&nbsp\;</span><br style="font-family: verdana\, arial\, sans-serif\, helvetica\; font-size: 11.7px\; background-color: rgb(255\, 255\, 255)\;" />\n<br style="font-family: verdana\, arial\, sans-serif\, helvetica\; font-size: 11.7px\; background-color: rgb(255\, 255\, 255)\;" />\n<span style="font-family: verdana\, arial\, sans-serif\, helvetica\; font-size: 11.7px\; background-color: rgb(255\, 255\, 255)\;">AMCHAM Thailand invites you to this free information session\, where you will learn the various ways to get involved with the Chamber\, from attending the Chamber?s 250+ events throughout the year to playing a leadership role in planning events\; from utilizing a wide range of business services to promoting your own services or products through the Chamber to target clients\; from reading our business publications to making editorial contributions.&nbsp\;</span><br style="font-family: verdana\, arial\, sans-serif\, helvetica\; font-size: 11.7px\; background-color: rgb(255\, 255\, 255)\;" />\n<br style="font-family: verdana\, arial\, sans-serif\, helvetica\; font-size: 11.7px\; background-color: rgb(255\, 255\, 255)\;" />\n<span style="font-family: verdana\, arial\, sans-serif\, helvetica\; font-size: 11.7px\; background-color: rgb(255\, 255\, 255)\;">AMCHAM Thailand is a member-oriented business organization and we strive to be the leading international business association in Thailand together with our members&#39\; participation. Come and talk with other members to find out the best ways to get connected with the Chamber and get the best value out of your AMCHAM membership!</span><br style="font-family: verdana\, arial\, sans-serif\, helvetica\; font-size: 11.7px\; background-color: rgb(255\, 255\, 255)\;" />\n<br style="font-family: verdana\, arial\, sans-serif\, helvetica\; font-size: 11.7px\; background-color: rgb(255\, 255\, 255)\;" />\n<span style="font-family: verdana\, arial\, sans-serif\, helvetica\; font-size: 11.7px\; background-color: rgb(255\, 255\, 255)\;">Who should attend? This free session is open to all AMCHAM Thailand members who are seeking opportunities to get involved with the international business community in Bangkok.</span><br style="font-family: verdana\, arial\, sans-serif\, helvetica\; font-size: 11.7px\; background-color: rgb(255\, 255\, 255)\;" />\n<br style="font-family: verdana\, arial\, sans-serif\, helvetica\; font-size: 11.7px\; background-color: rgb(255\, 255\, 255)\;" />\n<span style="font-family: verdana\, arial\, sans-serif\, helvetica\; font-size: 11.7px\; background-color: rgb(255\, 255\, 255)\;">Registration\, coffee and networking 4 pm</span><br style="font-family: verdana\, arial\, sans-serif\, helvetica\; font-size: 11.7px\; background-color: rgb(255\, 255\, 255)\;" />\n<span style="font-family: verdana\, arial\, sans-serif\, helvetica\; font-size: 11.7px\; background-color: rgb(255\, 255\, 255)\;">Briefing Starts: 4:30 pm&nbsp\;</span><br style="font-family: verdana\, arial\, sans-serif\, helvetica\; font-size: 11.7px\; background-color: rgb(255\, 255\, 255)\;" />\n<span style="font-family: verdana\, arial\, sans-serif\, helvetica\; font-size: 11.7px\; background-color: rgb(255\, 255\, 255)\;">Concludes: 6 pm</span><br style="font-family: verdana\, arial\, sans-serif\, helvetica\; font-size: 11.7px\; background-color: rgb(255\, 255\, 255)\;" />\n<br style="font-family: verdana\, arial\, sans-serif\, helvetica\; font-size: 11.7px\; background-color: rgb(255\, 255\, 255)\;" />\n<span style="font-family: verdana\, arial\, sans-serif\, helvetica\; font-size: 11.7px\; background-color: rgb(255\, 255\, 255)\;">The meeting is followed by the regular monthly networking night. Please register separately to attend.</span></p>\n
LOCATION:Ramada Plaza Menam Riverside Hotel 2074 Charoenkrung Road BTS Saphan Taksin (shuttle boats depart the hotel every 30 minutes one the hours and half hour and will depart from Saphan Thaksin approximately 10 minutes after)
UID:e.3314.32
SEQUENCE:3
DTSTAMP:20260424T055330Z
URL:http://www.connect.amchamthailand.com/events/details/amcham-101-new-member-orientation-32
END:VEVENT

END:VCALENDAR
