BEGIN:VCALENDAR
VERSION:2.0
PRODID:-//ChamberMaster//Event Calendar 2.0//EN
METHOD:PUBLISH
X-PUBLISHED-TTL:P3D
REFRESH-INTERVAL:P3D
CALSCALE:GREGORIAN
BEGIN:VEVENT
DTSTART:20200630T070000Z
DTEND:20200630T073000Z
X-MICROSOFT-CDO-ALLDAYEVENT:FALSE
SUMMARY:AMCHAM 101 - Running for the Board
DESCRIPTION:AMCHAM's Board of Governors represent a wide range of industries\, and comprise leaders from global corporations as well as local SMEs.  Together they set strategic directions for AMCHAM activity.\n\n \n\nPlease join us for a frank and in-depth look at how the Board operates and what Board responsibilities constitute.\n\n \n\nNominations for the Board will open on soon\, and we encourage any members thinking of running to join this session\, as well as members who are simply interested in learning more about AMCHAM governance.
X-ALT-DESC;FMTTYPE=text/html:AMCHAM&rsquo\;s Board of Governors represent a wide range of industries\, and comprise leaders from global corporations as well as local SMEs.&nbsp\; Together they set strategic directions for AMCHAM activity.<br />\n&nbsp\;<br />\nPlease join us for a frank and in-depth look at how the Board operates and what Board responsibilities constitute.<br />\n&nbsp\;<br />\nNominations for the Board will open on soon\, and we encourage any members thinking of running to join this session\, as well as members who are simply interested in learning more about AMCHAM governance.
LOCATION:Video Conference
UID:e.3314.1624
SEQUENCE:3
DTSTAMP:20260422T182219Z
URL:http://www.connect.amchamthailand.com/events/details/amcham-101-running-for-the-board-1624
END:VEVENT

END:VCALENDAR
