BEGIN:VCALENDAR
VERSION:2.0
PRODID:-//ChamberMaster//Event Calendar 2.0//EN
METHOD:PUBLISH
X-PUBLISHED-TTL:P3D
REFRESH-INTERVAL:P3D
CALSCALE:GREGORIAN
BEGIN:VEVENT
DTSTART:20190112T003000Z
DTEND:20190112T070000Z
X-MICROSOFT-CDO-ALLDAYEVENT:FALSE
SUMMARY:AMCHAM 2019 Strategy Session
DESCRIPTION:2018/2019 Board of Governors and Committee Roundup and 2019 Strategy Session.  This session is by invitation only to Board Governors and Committee Leaders.\n\nAgenda\n\n7:30 am   Registration\n\n8:00 am   Meeting\n\n12:30 pm  Lunch\n\n2:00 pm    End
X-ALT-DESC;FMTTYPE=text/html:<p style="color: rgb(51\, 51\, 51)\; font-family: sans-serif\, Arial\, Verdana\, &quot\;Trebuchet MS&quot\;\; font-size: 13px\;">2018/2019 Board of Governors and Committee Roundup and 2019 Strategy Session.&nbsp\; This session is by invitation only to Board Governors and Committee Leaders.</p>\n\n<p style="color: rgb(51\, 51\, 51)\; font-family: sans-serif\, Arial\, Verdana\, &quot\;Trebuchet MS&quot\;\; font-size: 13px\;">Agenda<br />\n7:30 am&nbsp\; &nbsp\;Registration<br />\n8:00 am&nbsp\; &nbsp\;Meeting<br />\n12:30 pm&nbsp\; Lunch<br />\n2:00 pm&nbsp\; &nbsp\; End</p>\n
LOCATION:Royal Orchid Sheraton Hotel\, Pompadour room Captain Bush Lane BTS Saphan Taksin\, hotel runs shuttle boat from Saphan Taksin pier
UID:e.3314.138
SEQUENCE:3
DTSTAMP:20260424T000147Z
URL:http://www.connect.amchamthailand.com/events/details/amcham-2019-strategy-session-138
END:VEVENT

END:VCALENDAR
