BEGIN:VCALENDAR
VERSION:2.0
PRODID:-//ChamberMaster//Event Calendar 2.0//EN
METHOD:PUBLISH
X-PUBLISHED-TTL:P3D
REFRESH-INTERVAL:P3D
CALSCALE:GREGORIAN
BEGIN:VEVENT
DTSTART:20210702T020000Z
DTEND:20210702T033000Z
X-MICROSOFT-CDO-ALLDAYEVENT:FALSE
SUMMARY:AMCHAM 2021 Mid-Year Strategy Session
DESCRIPTION:AMCHAM Board Governors and Committee Chairs will gather for the mid-year AMCHAM Strategy Session to review impact of AMCHAM activity in 2021 and set goals and directions for the remainder of the year.
X-ALT-DESC;FMTTYPE=text/html:AMCHAM Board Governors and Committee Chairs will gather for the mid-year AMCHAM Strategy Session to review impact of AMCHAM activity in 2021 and set goals and directions for the remainder of the year.
LOCATION:
UID:e.3314.1942
SEQUENCE:3
DTSTAMP:20260421T210711Z
URL:http://www.connect.amchamthailand.com/events/details/amcham-2021-mid-year-strategy-session-1942
END:VEVENT

END:VCALENDAR
