BEGIN:VCALENDAR
VERSION:2.0
PRODID:-//ChamberMaster//Event Calendar 2.0//EN
METHOD:PUBLISH
X-PUBLISHED-TTL:P3D
REFRESH-INTERVAL:P3D
CALSCALE:GREGORIAN
BEGIN:VEVENT
DTSTART:20220120T020000Z
DTEND:20220120T070000Z
X-MICROSOFT-CDO-ALLDAYEVENT:FALSE
SUMMARY:AMCHAM 2022 Strategy Session
DESCRIPTION:AMCHAM Board Governors and Committee Chairs will gather for the annual AMCHAM Strategy Session to set goals and directions for 2022 AMCHAM activity\, government relations\, and programming. The morning will consist of brief presentations and longer breakout sessions\, followed by a networking lunch.\n\n\n\nThis event is by invitation only for the AMCHAM leadership.
X-ALT-DESC;FMTTYPE=text/html:<p>AMCHAM Board Governors and Committee Chairs will gather for the annual AMCHAM Strategy Session to set goals and directions for 2022 AMCHAM activity\, government relations\, and programming. The morning will consist of brief presentations and longer breakout sessions\, followed by a networking lunch.<br />\n<br />\nThis event is by invitation only for the AMCHAM leadership.&nbsp\;&nbsp\;</p>\n
LOCATION:Centara Grand at CentralWorld
UID:e.3314.2087
SEQUENCE:3
DTSTAMP:20260421T070322Z
URL:http://www.connect.amchamthailand.com/events/details/amcham-2022-strategy-session-2087
END:VEVENT

END:VCALENDAR
