BEGIN:VCALENDAR
VERSION:2.0
PRODID:-//ChamberMaster//Event Calendar 2.0//EN
METHOD:PUBLISH
X-PUBLISHED-TTL:P3D
REFRESH-INTERVAL:P3D
CALSCALE:GREGORIAN
BEGIN:VEVENT
DTSTART:20220919T070000Z
DTEND:20220919T080000Z
X-MICROSOFT-CDO-ALLDAYEVENT:FALSE
SUMMARY:AMCHAM Academy: Diversity\, Equity\, and Inclusion
DESCRIPTION:It is a pleasure for the AMCHAM Academy to hear from Michael B k\, Country Head of Public Policy at Meta\, Thailand to speak on Diversity\, Equity\, and Inclusion. This event is open to the AMCHAM Academy cohort only.
X-ALT-DESC;FMTTYPE=text/html:It is a pleasure for the AMCHAM Academy to hear from <a href="https://www.linkedin.com/in/michaelbak1/">Michael B&auml\;k</a>\, Country Head of Public Policy at Meta\, Thailand to speak on Diversity\, Equity\, and Inclusion. This event is open to the AMCHAM Academy cohort only.\n<p>&nbsp\;</p>\n
LOCATION:Video conference
UID:e.3314.2270
SEQUENCE:3
DTSTAMP:20260420T161308Z
URL:http://www.connect.amchamthailand.com/events/details/amcham-academy-diversity-equity-and-inclusion-2270
END:VEVENT

END:VCALENDAR
