BEGIN:VCALENDAR
VERSION:2.0
PRODID:-//ChamberMaster//Event Calendar 2.0//EN
METHOD:PUBLISH
X-PUBLISHED-TTL:P3D
REFRESH-INTERVAL:P3D
CALSCALE:GREGORIAN
BEGIN:VEVENT
DTSTART:20200806T070000Z
DTEND:20200806T080000Z
X-MICROSOFT-CDO-ALLDAYEVENT:FALSE
SUMMARY:AMCHAM Academy Orientation
DESCRIPTION:In 2020\, AMCHAM is pleased to welcome the first student cohort of the AMCHAM Academy.\n\nDesigned to develop the rising young leaders of your organization\, the AMCHAM Academy connects high-talent staff with leaders in the Thai business world in small group seminars. Academy participants emerge from the program with strong cross-industry peer networks\, fresh business and leadership insights\, and the creative mindset necessary for your company's success in the modern business world.\n\nOur 2020 AMCHAM Academy speakers includes U.S. Ambassador Michael George DeSombre and Boonchai Opas-iam-likit\, US Business Chairman - Charoen Pokphand Group.\n\nAcademy participants are invited to join the 2020 Academy Orientation for an initial introduction to your class cohort and the program. Attendance at all sessions is required in order to qualify for the Certificate of Completion.\n\n\n\nNote: All available spots for the 2020 Academy are currently filled. If you wish to be informed of updates for the 2021 Academy\, please contact ed@amchamthailand.com to be added to a mailing list.
X-ALT-DESC;FMTTYPE=text/html:<p>In 2020\, AMCHAM is pleased to welcome the first student cohort of the AMCHAM Academy.</p>\n\n<p>Designed to develop the rising young leaders of your organization\, the AMCHAM Academy connects high-talent staff with leaders in the Thai business world in small group seminars. Academy participants emerge from the program with strong cross-industry peer networks\, fresh business and leadership insights\, and the creative mindset necessary for your company&rsquo\;s success in the modern business world.</p>\n\n<p>Our 2020 AMCHAM Academy speakers includes U.S. Ambassador Michael George DeSombre and Boonchai Opas-iam-likit\, US Business Chairman - Charoen Pokphand Group.</p>\n\n<p>Academy participants are&nbsp\;invited to join the 2020 Academy Orientation for an initial introduction to your class cohort and the program. Attendance at&nbsp\;all sessions is required in order to qualify for the Certificate of Completion.<br />\n<br />\n<em>Note: All available spots for the 2020 Academy are currently filled. If you wish to be informed of updates for the 2021 Academy\, please contact <a href="mailto:ed@amchamthailand.com" rel="noreferrer noopener" tabindex="-1" target="_blank" title="mailto:ed@amchamthailand.com">ed@amchamthailand.com</a> to be added to a mailing list.</em></p>\n
LOCATION:Video Conference
UID:e.3314.1655
SEQUENCE:3
DTSTAMP:20260422T144103Z
URL:http://www.connect.amchamthailand.com/events/details/amcham-academy-orientation-1655
END:VEVENT

END:VCALENDAR
