BEGIN:VCALENDAR
VERSION:2.0
PRODID:-//ChamberMaster//Event Calendar 2.0//EN
METHOD:PUBLISH
X-PUBLISHED-TTL:P3D
REFRESH-INTERVAL:P3D
CALSCALE:GREGORIAN
BEGIN:VEVENT
DTSTART:20230515T010000Z
DTEND:20230517T053000Z
X-MICROSOFT-CDO-ALLDAYEVENT:FALSE
SUMMARY:AMCHAM Academy Residential Program 2023
DESCRIPTION:AMCHAM's Residential Academy 2023\n\nWelcome to the AMCHAM Residential Academy Program 2023! This exclusive program is designed for high potential mid to senior tier management with AMCHAM member companies. The program provides a great opportunity for our participants to listen to experts from various fields in business and to form a lasting network with executive professionals. Through a unique blend of expert panels and networking events\, AMCHAM Residential Academy Program 2023 is a one-of-a-kind opportunity for those looking to advance their careers and broaden their horizons.  \n\n\n\nProgram Details \n\nThe AMCHAM Residential Academy Program 2023 is a two and a half days program at True Digital Park (Sukhumvit 101) and Avani Hotel Bangkok. The program will feature a range of activities\, including:  \n\n\n\n\n	\n	Seven Speaker Sessions: You will have the opportunity to hear from top business leaders across various industries and gain valuable insights into their experiences and perspectives.  \n	\n\n\n\n\n\n	\n	All-day Networking Opportunity: There will be plenty of opportunities to network with other rising professionals and business leaders\, as well as connect with fellow AMCHAM Thailand members.  \n	\n\n\n\n\n\n\n	\n	Two Exclusive Dinners: There will be two dinners at which you will be seated alongside distinguished business leaders\, including AMCHAM's Board of Governors\, Council\, and Committee leaders. Dinners are a three-course meal (Western Set) includes free flow beverages (wine and beer). \n	\n\n\n\n\n	\n	Two- Night Stays: For an ultimate bonding\, participants will stay at the Avani Sukhumvit Bangkok\, including breakfast. \n	\n\n\n\n\n\n	Membership Orientation: On the program concluding day\, you will have the opportunity to gain a deeper understanding of AMCHAM from team leaders\, including Membership\, Communications\, Government Affairs\, and the AMCHAM Thailand Foundation (ATF). Our team members will provide valuable insights on how to best leverage your membership for maximum benefits. \n\nPlease find more details at the following link ? AMCHAM Residential Academy Brochure.
X-ALT-DESC;FMTTYPE=text/html:<p font-size:="" style="color: rgb(51\, 51\, 51)\; font-family: sans-serif\, Arial\, Verdana\, " trebuchet=""><strong>AMCHAM&#39\;s Residential Academy 2023</strong><br />\nWelcome to the AMCHAM Residential Academy Program 2023! This exclusive program is designed for high potential mid to senior tier management with AMCHAM&nbsp\;member companies. The program provides a great opportunity for our participants to listen to experts from various fields in business and to form a lasting network with executive professionals. Through a unique blend of expert panels and networking events\, AMCHAM Residential Academy Program 2023 is a one-of-a-kind opportunity for those looking to advance their careers and broaden their horizons.&#8239\;&nbsp\;<br />\n<br />\n<strong>Program Details&nbsp\;</strong><br />\nThe AMCHAM Residential Academy Program 2023 is a two and a half days program at True Digital Park (Sukhumvit 101) and Avani Hotel Bangkok. The program will feature a range of activities\, including:&#8239\;&nbsp\;</p>\n\n<div>\n<div>\n<ol role="list" start="1">\n	<li aria-setsize="-1" data-aria-level="1" data-aria-posinset="1" data-font="Calibri" data-leveltext="%1." data-list-defn-props="{" data-listid="30" role="listitem">\n	<p paraeid="{04029f7e-6d37-4cac-8394-4ac4a1415b83}{246}" paraid="1416928011"><strong>Seven Speaker Sessions:</strong> You will have the opportunity to hear from top business leaders across various industries and gain valuable insights into their experiences and perspectives.&#8239\;&nbsp\;</p>\n	</li>\n</ol>\n</div>\n\n<div>\n<ol role="list" start="2">\n	<li aria-setsize="-1" data-aria-level="1" data-aria-posinset="2" data-font="Calibri" data-leveltext="%1." data-list-defn-props="{" data-listid="30" role="listitem">\n	<p paraeid="{9923defb-0c80-4865-b72e-1221d5ef24a9}{6}" paraid="571347070"><strong>All-day Networking Opportunity:</strong> There will be plenty of opportunities to network with other rising professionals and business leaders\, as well as connect with fellow AMCHAM Thailand members.&#8239\;&nbsp\;</p>\n	</li>\n</ol>\n</div>\n</div>\n\n<div>\n<ol role="list" start="3">\n	<li aria-setsize="-1" data-aria-level="1" data-aria-posinset="3" data-font="Calibri" data-leveltext="%1." data-list-defn-props="{" data-listid="30" role="listitem">\n	<p paraeid="{9923defb-0c80-4865-b72e-1221d5ef24a9}{23}" paraid="1719969327"><strong>Two Exclusive Dinners:&nbsp\;</strong>There will be two dinners at which you will be seated alongside distinguished business leaders\, including AMCHAM&#39\;s Board of Governors\, Council\, and Committee leaders. Dinners are a three-course meal (Western Set) includes free flow beverages (wine and beer).&nbsp\;</p>\n	</li>\n</ol>\n\n<div>\n<ol role="list" start="4">\n	<li aria-setsize="-1" data-aria-level="1" data-aria-posinset="4" data-font="Calibri" data-leveltext="%1." data-list-defn-props="{" data-listid="30" role="listitem">\n	<p paraeid="{9923defb-0c80-4865-b72e-1221d5ef24a9}{42}" paraid="1949720021"><strong>Two- Night Stays</strong>: For an ultimate bonding\, participants will stay at the Avani Sukhumvit Bangkok\, including breakfast.&nbsp\;</p>\n	</li>\n</ol>\n</div>\n\n<div>\n<ol start="5">\n	<li paraeid="{9923defb-0c80-4865-b72e-1221d5ef24a9}{63}" paraid="1243387680"><strong>Membership Orientation:</strong> On the program concluding day\, you will have the opportunity to gain a deeper understanding of AMCHAM from team leaders\, including Membership\, Communications\, Government Affairs\, and the AMCHAM Thailand Foundation (ATF). Our team members will provide valuable insights on how to best leverage your membership for maximum benefits.&nbsp\;</li>\n</ol>\n<span style="font-size:10.0pt\;">Please find more details at the following link ? <a href="https://www.amchamthailand.com/wp-content/uploads/2023/05/2023-AMCHAM-Academy-Residential-Program-Brochure.pdf">AMCHAM Residential Academy Brochure.</a></span></div>\n</div>\n
LOCATION:True Digital Park (Griffin Building) and Avani Sukhumvit Bangkok
UID:e.3314.2517
SEQUENCE:3
DTSTAMP:20260420T013835Z
URL:http://www.connect.amchamthailand.com/events/details/amcham-academy-residential-program-2023-2517
END:VEVENT

END:VCALENDAR
