BEGIN:VCALENDAR
VERSION:2.0
PRODID:-//ChamberMaster//Event Calendar 2.0//EN
METHOD:PUBLISH
X-PUBLISHED-TTL:P3D
REFRESH-INTERVAL:P3D
CALSCALE:GREGORIAN
BEGIN:VEVENT
DTSTART:20200818T080000Z
DTEND:20200818T090000Z
X-MICROSOFT-CDO-ALLDAYEVENT:FALSE
SUMMARY:AmCham Australia’s USA Series
DESCRIPTION:REGISTER HERE\n\n\n\nPlease sign in or create an account to register for this event before 4:00 PM on Monday 17 August. If online registrations are closed\, please email events@amcham.com.au with your Full Name\, Job Title\, Company Name\, State and Email Address to confirm availability.\n\n-------------------------------\n\nAmCham Australia's USA Series covers all things American: the 2020 Presidential Election\, Doing Business in America\, the economic impact of Covid-19\, US-China trade relations\, and more. \n\n\n\nAmidst the presidential election posturing\, pandemic restrictions\, racial riots\, civil unrest\, soaring unemployment\, and political tensions\, what will drive the world's largest economy on its road to recovery? Perhaps the recent successful SpaceX launch offers a clue: will private business and industry pave the way for innovation and economic recovery? Or will it be government-led stimulus that brings America and the world economy back from economic contraction? \n\n\n\nThe United States is Australia's largest foreign investment partner. Australian growth is reliant on the deep and liquid capital markets in the United States. Where does the current situation leave both of our countries and what should businesses know now and be thinking about in the future to be sure they are at the forefront of the recovery? \n\n\n\n--------- \n\n\n\nVoters demand climate action (as long as it doesn't cost much). What was once the most divisive and important topics facing the US election has now taken a back seat to Jobs\, Economy and Healthcare. Is the choice the Economy or Sustainability? Can we have both? Or is Sustainability the responsibility of Big Business. John Elkington coined the phrase the "triple bottom line" which is a sustainability framework that examines a company's social\, environment\, and economic impact. \n\n\n\nAbout the speakers:\n\n\n	John Elkington\, Co-Founder & Chief Pollinator\, Volans\n	Michael Goltzman\n\n	Vice President of Global Public Policy and Sustainability\n\n	Coca-Cola\n	Zoe Whitton \n\n	Head of Environmental\, Social and Governance (ESG) Research team\, Citi\n	Moderated by Marc Luet\n\n	Chief Executive Officer\, Citi\n\n---------------------------------------------\n\nREGISTER HERE\n\n\n\nPlease sign in or create an account to register for this event before 4:00 PM on Monday 17 August. If online registrations are closed\, please email events@amcham.com.au with your Full Name\, Job Title\, Company Name\, State and Email Address to confirm availability.
X-ALT-DESC;FMTTYPE=text/html:<p><a href="https://www.amcham.com.au/Shared_Content/ContactManagement/Sign_In.aspx?WebsiteKey=8417dfc1-4046-45a2-be58-c9cb7c97fa2c&amp\;LoginRedirect=true&amp\;returnurl=%2Fweb%2FEventRegistration%3FEventKey%3D200061"><strong>REGISTER HERE</strong></a><br />\n<br />\n<strong>Please sign in or create an account to register for this event before 4:00 PM on Monday 17 August</strong>. If online registrations are closed\, please email events@amcham.com.au with your Full Name\, Job Title\, Company Name\, State and Email Address to confirm availability.</p>\n\n<p>-------------------------------</p>\n\n<div>AmCham Australia&rsquo\;s USA Series covers all things American: the 2020 Presidential Election\, Doing Business in America\, the economic impact of Covid-19\, US-China trade relations\, and more.&nbsp\;<br />\n<br />\nAmidst the presidential election posturing\, pandemic restrictions\, racial riots\, civil unrest\, soaring unemployment\, and political tensions\, what will drive the world&rsquo\;s largest economy on its road to recovery? Perhaps the recent successful SpaceX launch offers a clue: will private business and industry pave the way for innovation and economic recovery? Or will it be government-led stimulus that brings America and the world economy back from economic contraction?&nbsp\;<br />\n<br />\nThe United States is Australia&rsquo\;s largest foreign investment partner. Australian growth is reliant on the deep and liquid capital markets in the United States. Where does the current situation leave both of our countries and what should businesses know now and be thinking about in the future to be sure they are at the forefront of the recovery?&nbsp\;<br />\n<br />\n---------&nbsp\;<br />\n<br />\nVoters demand climate action (as long as it doesn&rsquo\;t cost much). What was once the most divisive and important topics facing the US election has now taken a back seat to Jobs\, Economy and Healthcare. Is the choice the Economy or Sustainability? Can we have both? Or is Sustainability the responsibility of Big Business. John Elkington coined the phrase the &ldquo\;triple bottom line&rdquo\; which is a sustainability framework that examines a company&rsquo\;s social\, environment\, and economic impact.&nbsp\;<br />\n<br />\n<strong>About the speakers:</strong></div>\n\n<ul>\n	<li>John Elkington\, Co-Founder &amp\; Chief Pollinator\, Volans</li>\n	<li>Michael Goltzman<br />\n	Vice President of Global Public Policy and Sustainability<br />\n	Coca-Cola</li>\n	<li>Zoe Whitton&nbsp\;<br />\n	Head of Environmental\, Social and Governance (ESG) Research team\, Citi</li>\n	<li>Moderated by Marc Luet<br />\n	Chief Executive Officer\, Citi</li>\n</ul>\n---------------------------------------------\n\n<div><a href="https://www.amcham.com.au/Shared_Content/ContactManagement/Sign_In.aspx?WebsiteKey=8417dfc1-4046-45a2-be58-c9cb7c97fa2c&amp\;LoginRedirect=true&amp\;returnurl=%2Fweb%2FEventRegistration%3FEventKey%3D200061"><strong>REGISTER HERE</strong></a><br />\n<br />\n<strong>Please sign in or create an account to register for this event before 4:00 PM on Monday 17 August</strong>. If online registrations are closed\, please email events@amcham.com.au with your Full Name\, Job Title\, Company Name\, State and Email Address to confirm availability.</div>\n
LOCATION:Webinar
UID:e.3314.1678
SEQUENCE:3
DTSTAMP:20260422T163049Z
URL:http://www.connect.amchamthailand.com/events/details/amcham-australia-s-usa-series-1678
END:VEVENT

END:VCALENDAR
