BEGIN:VCALENDAR
VERSION:2.0
PRODID:-//ChamberMaster//Event Calendar 2.0//EN
METHOD:PUBLISH
X-PUBLISHED-TTL:P3D
REFRESH-INTERVAL:P3D
CALSCALE:GREGORIAN
BEGIN:VEVENT
DTSTART:20200227T110000Z
DTEND:20200227T130000Z
X-MICROSOFT-CDO-ALLDAYEVENT:FALSE
SUMMARY:AMCHAM/BCCT Evening Presentation on EEC: Investment in EEC update\, Thailand performance with trade wars and Investment implications"
DESCRIPTION:BCCT in collaboration with AMCHAM cordially invites you to the Evening Presentation on EEC. \n\n\n\nOur Speaker:\n\nDavid Nardone\, Group Executive Industrial and International\, WHA Industrial Development \n\n\n\nFor booking\, please click HERE or email banthita@bccthai.com
X-ALT-DESC;FMTTYPE=text/html:<div>BCCT in collaboration with AMCHAM cordially invites you to the Evening Presentation on EEC.&nbsp\;<br />\n<br />\n<strong>Our Speaker:</strong><br />\nDavid Nardone\, Group Executive Industrial and International\, WHA Industrial Development&nbsp\;<br />\n<br />\n<strong><span style="color:#FF0000\;">For booking\, please click </span><a href="https://members.bccthai.com/BCCT/asp/eventdetail.asp?EventID=3560&amp\;SponsorID=-1"><span style="color:#FF0000\;">HERE</span></a><span style="color:#FF0000\;"> or email banthita@bccthai.com&nbsp\;</span></strong></div>\n
LOCATION:Sheraton Grande Sukhumvit (BTS Asoke exit5 or MRT Sukhumvit exit 3)
UID:e.3314.1528
SEQUENCE:3
DTSTAMP:20260423T021108Z
URL:http://www.connect.amchamthailand.com/events/details/amcham-bcct-evening-presentation-on-eec-investment-in-eec-update-thailand-performance-with-trade-wars-and-investment-implications-1528
END:VEVENT

END:VCALENDAR
