BEGIN:VCALENDAR
VERSION:2.0
PRODID:-//ChamberMaster//Event Calendar 2.0//EN
METHOD:PUBLISH
X-PUBLISHED-TTL:P3D
REFRESH-INTERVAL:P3D
CALSCALE:GREGORIAN
BEGIN:VEVENT
DTSTART:20210722T070000Z
DTEND:20210722T080000Z
X-MICROSOFT-CDO-ALLDAYEVENT:FALSE
SUMMARY:AMCHAM Board of Governors 101
DESCRIPTION:Are you interested in learning what it takes to run for the AMCHAM Board of Governors? Or maybe you want to know more about how to nominate someone or about the nominations and elections process itself? Join our panel of current and former AMCHAM Governors as they discuss the Board of Governor's role in promoting the U.S. business community's values and interests in Thailand\, and how each member uses their unique background to help strengthen the AMCHAM community. This is the "can't miss" event if you have ever wanted to join the AMCHAM Board of Governors or have it in mind as a future goal.\n\n\n\nThe panel will be an online informal discussion with moderated questions from the audience.\n\n\n\nPanelists:\n\n	David Nardone\, AMCHAM Governor\, Group Executive - Industrial and International\, WHA Industrial Development\n	Vira-anong C. Phutrakul\, former AMCHAM Governor\, Managing Director\, Head of Consumer Banking\, Citibank\, N.A.\n	George Hartel\, AMCHAM Governor\, Chief Commercial Officer\, Supara Group and GQ Apparel.\n\nModerator:\n\n\n	John DaSilva\, Committee Leader - AMCHAM Communications & Marketing Committee\, Managing Director\, Data & Technology Consulting\, AMPOS Solutions
X-ALT-DESC;FMTTYPE=text/html:Are you interested in learning what it takes to run for the AMCHAM Board of Governors? Or maybe you want to know more about how to nominate someone or about the nominations and elections process itself? Join our panel of current and former AMCHAM Governors as they discuss the Board of Governor&#39\;s role in promoting the U.S. business community&rsquo\;s values and interests in Thailand\, and how each member uses their unique background to help strengthen the AMCHAM community. This is the &quot\;can&#39\;t miss&quot\; event if you have ever wanted to join the AMCHAM Board of Governors or have it in mind as a future goal.<br />\n<br />\nThe panel will be an online informal discussion with moderated questions from the audience.<br />\n<br />\n<strong>Panelists</strong><em>:</em>\n<ul>\n	<li>David Nardone\, AMCHAM Governor\, Group Executive - Industrial and International\, WHA Industrial Development</li>\n	<li>Vira-anong C. Phutrakul\, former AMCHAM Governor\, Managing Director\, Head of Consumer Banking\, Citibank\, N.A.</li>\n	<li>George Hartel\, AMCHAM Governor\, Chief Commercial Officer\, Supara Group and GQ Apparel.</li>\n</ul>\n<strong>Moderator:</strong>\n\n<ul>\n	<li>John DaSilva\, Committee Leader - AMCHAM Communications &amp\; Marketing Committee\, Managing Director\, Data &amp\; Technology Consulting\, AMPOS Solutions</li>\n</ul>\n
LOCATION:Webinar
UID:e.3314.1947
SEQUENCE:3
DTSTAMP:20260421T194959Z
URL:http://www.connect.amchamthailand.com/events/details/amcham-board-of-governors-101-07-22-2021-1947
END:VEVENT

END:VCALENDAR
