BEGIN:VCALENDAR
VERSION:2.0
PRODID:-//ChamberMaster//Event Calendar 2.0//EN
METHOD:PUBLISH
X-PUBLISHED-TTL:P3D
REFRESH-INTERVAL:P3D
CALSCALE:GREGORIAN
BEGIN:VEVENT
DTSTART:20200429T030000Z
DTEND:20200429T033000Z
X-MICROSOFT-CDO-ALLDAYEVENT:FALSE
SUMMARY:AMCHAM Business Today
DESCRIPTION:Join AMCHAM Business Today roundtable videoconference for a member to member conversation with the AMCHAM membership\, the Board of Governors and other leaders in Thailand's premier business community. This brisk 30-minute session will be led by representative from the AMCHAM Board and will be a chance for members to connect with their peers online and discuss daily developments affecting our business. The Board will start with a recap of the key events of the day\, but then open the forum to participating members so you can learn what your fellow businesses are doing in response. Example topics might include: health and safety for employees\, company policies regarding travel\, and company policies for employees with school-age children.\n\n\n\nWe will send you instructions to join the conference and a list of participating members shortly before the video conference start time.
X-ALT-DESC;FMTTYPE=text/html:Join AMCHAM Business Today roundtable videoconference for a member to member conversation with the AMCHAM membership\, the Board of Governors and other leaders in Thailand&#39\;s premier business community. This brisk 30-minute session will be led by representative from the AMCHAM Board and will be&nbsp\;a chance for members to connect with their peers online and discuss daily developments affecting our business. The Board will start with a recap of the key events of the day\, but then open the forum to participating members so you can learn what your fellow businesses are doing in response. Example topics might include: health and safety for employees\, company policies regarding travel\, and company policies for employees with school-age children.<br />\n<br />\nWe will send you instructions to join the conference and a list of participating members shortly before the video conference start time.<br />\n&nbsp\;
LOCATION:Video conference Meeting
UID:e.3314.1589
SEQUENCE:3
DTSTAMP:20260422T215942Z
URL:http://www.connect.amchamthailand.com/events/details/amcham-business-today-1589
END:VEVENT

END:VCALENDAR
