BEGIN:VCALENDAR
VERSION:2.0
PRODID:-//ChamberMaster//Event Calendar 2.0//EN
METHOD:PUBLISH
X-PUBLISHED-TTL:P3D
REFRESH-INTERVAL:P3D
CALSCALE:GREGORIAN
BEGIN:VEVENT
DTSTART:20200410T070000Z
DTEND:20200410T073000Z
X-MICROSOFT-CDO-ALLDAYEVENT:FALSE
SUMMARY:AMCHAM Business Today: Marketing in the Time of Covid
DESCRIPTION:As a part of the video conference series\, AMCHAM Business Today (ABT)\, AMCHAM's Communications and Marketing Committee will be hosting a special ABT with focus on Marketing in the Time of Covid. Join for an opportunity to speak with experts in the marketing industry regarding ways to reach your audience in these uncertain times. \n\n \n\nIf you're interested in attending\, please register HERE\, and we will send you instructions to join the conference and a list of participating members shortly before the video conference start time.\n\n \n\nCommunications & Marketing Committee Leadership:\n\nGerald Margolis is Managing Director for Thailand and IndoChina at Philip Morris International.\n\n\n\nDavid Norcross is a the founder and Managing Director of Lexicon.\n\n\n\nLouie Morante  leads P&G Southeast Asia Fabric & Home Care regional brand communications and public relations covering Thailand\, Philippines\, Indonesia\, Singapore\, Malaysia\, and Vietnam.  \n\n \n\nJohn DaSilva is Director of Partnerships and Communications at Kenan Foundation Asia.
X-ALT-DESC;FMTTYPE=text/html:<p><span style="font-size:12px\;">As a part of the video conference series\, <strong>AMCHAM Business Today (ABT)</strong>\, AMCHAM&#39\;s Communications and Marketing Committee will be hosting a special ABT with focus on <em>Marketing in the Time of Covid</em>. Join for an opportunity to speak with experts in the marketing industry regarding ways to reach your audience in these uncertain times.&nbsp\;<br />\n&nbsp\;<br />\nIf you&#39\;re interested in attending\, please register <a href="https://accthailand.chambermaster.com/eventregistration/register/1577"><u>HERE</u></a>\, and we will send you instructions to join the conference and a list of participating members shortly before the video conference start time.<br />\n&nbsp\;<br />\n<strong>Communications &amp\; Marketing Committee Leadership:</strong></span></p>\n\n<p><span style="font-size:12px\;"><a href="https://www.linkedin.com/in/gerald-margolis-3a93375/">Gerald&nbsp\;Margolis</a>&nbsp\;is Managing Director for Thailand and IndoChina at Philip Morris International.<br />\n<br />\n<a href="https://www.linkedin.com/in/davidnorcross/">David Norcross</a> is a<span style="color: rgba(0\, 0\, 0\, 0.9)\; font-family: -apple-system\, system-ui\, BlinkMacSystemFont\, &quot\;Segoe UI&quot\;\, Roboto\, &quot\;Helvetica Neue&quot\;\, &quot\;Fira Sans&quot\;\, Ubuntu\, Oxygen\, &quot\;Oxygen Sans&quot\;\, Cantarell\, &quot\;Droid Sans&quot\;\, &quot\;Apple Color Emoji&quot\;\, &quot\;Segoe UI Emoji&quot\;\, &quot\;Segoe UI Symbol&quot\;\, &quot\;Lucida Grande&quot\;\, Helvetica\, Arial\, sans-serif\; white-space: pre-line\;">&nbsp\;the founder and Managing Director of Lexicon.</span><br />\n<br />\n<a href="https://www.linkedin.com/in/louiemorante/">Louie Morante</a>&nbsp\; leads&nbsp\;<span style="color: rgba(0\, 0\, 0\, 0.9)\; font-family: -apple-system\, system-ui\, BlinkMacSystemFont\, &quot\;Segoe UI&quot\;\, Roboto\, &quot\;Helvetica Neue&quot\;\, &quot\;Fira Sans&quot\;\, Ubuntu\, Oxygen\, &quot\;Oxygen Sans&quot\;\, Cantarell\, &quot\;Droid Sans&quot\;\, &quot\;Apple Color Emoji&quot\;\, &quot\;Segoe UI Emoji&quot\;\, &quot\;Segoe UI Symbol&quot\;\, &quot\;Lucida Grande&quot\;\, Helvetica\, Arial\, sans-serif\; white-space: pre-line\;">P&amp\;G Southeast Asia Fabric &amp\; Home Care regional brand communications and public relations covering Thailand\, Philippines\, Indonesia\, Singapore\, Malaysia\, and Vietnam.&nbsp\;&nbsp\;</span><br />\n&nbsp\;<br />\n<a href="https://www.linkedin.com/in/johncdasilva/">John DaSilva</a> is&nbsp\;<span style="color: rgba(0\, 0\, 0\, 0.9)\; font-family: -apple-system\, system-ui\, BlinkMacSystemFont\, &quot\;Segoe UI&quot\;\, Roboto\, &quot\;Helvetica Neue&quot\;\, &quot\;Fira Sans&quot\;\, Ubuntu\, Oxygen\, &quot\;Oxygen Sans&quot\;\, Cantarell\, &quot\;Droid Sans&quot\;\, &quot\;Apple Color Emoji&quot\;\, &quot\;Segoe UI Emoji&quot\;\, &quot\;Segoe UI Symbol&quot\;\, &quot\;Lucida Grande&quot\;\, Helvetica\, Arial\, sans-serif\; white-space: pre-line\;">Director of Partnerships and Communications&nbsp\;at Kenan Foundation Asia.&nbsp\;</span></span><br />\n&nbsp\;</p>\n
LOCATION:Video conference Meeting
UID:e.3314.1577
SEQUENCE:3
DTSTAMP:20260422T222702Z
URL:http://www.connect.amchamthailand.com/events/details/amcham-business-today-marketing-in-the-time-of-covid-1577
END:VEVENT

END:VCALENDAR
