BEGIN:VCALENDAR
VERSION:2.0
PRODID:-//ChamberMaster//Event Calendar 2.0//EN
METHOD:PUBLISH
X-PUBLISHED-TTL:P3D
REFRESH-INTERVAL:P3D
CALSCALE:GREGORIAN
BEGIN:VEVENT
DTSTART:20200408T030000Z
DTEND:20200408T033000Z
X-MICROSOFT-CDO-ALLDAYEVENT:FALSE
SUMMARY:AMCHAM Business Today Video Conference
DESCRIPTION:AMCHAM is pleased to launch a video conference series\, AMCHAM Business Today\, a chance for members to connect with their peers online and discuss daily developments affecting our business. These brisk\, 30-minute discussions are member-led\; Executive Director Heidi Gallant will start with a recap of the key events of the day\, but then open the forum to participating members so you can learn what your fellow businesses are doing in response. Example topics might include: health and safety for employees\, company policies regarding travel\, and company policies for employees with school-age children.\n\n \n\nIf you're interested in attending\, please register HERE\, and we will send you instructions to join the conference and a list of participating members shortly before the video conference start time.
X-ALT-DESC;FMTTYPE=text/html:AMCHAM is pleased to launch a video conference series\, <strong>AMCHAM Business Today</strong>\, a chance for members to connect with their peers online and discuss daily developments affecting our business. These&nbsp\;brisk\, 30-minute&nbsp\;discussions are member-led\; Executive Director Heidi Gallant will start with a recap of the key events of the day\, but then open the forum to participating members so you can learn what your fellow businesses are doing in response. Example topics might include: health and safety for employees\, company policies regarding travel\, and company policies for employees with school-age children.<br />\n&nbsp\;<br />\nIf you&#39\;re interested in attending\, please register <a href="https://accthailand.chambermaster.com/eventregistration/register/1576"><u>HERE</u></a>\, and we will send you instructions to join the conference and a list of participating members shortly before the video conference start time.<br />\n&nbsp\;<br />\n&nbsp\;
LOCATION:Video conference Meeting
UID:e.3314.1576
SEQUENCE:3
DTSTAMP:20260422T220939Z
URL:http://www.connect.amchamthailand.com/events/details/amcham-business-today-video-conference-1576
END:VEVENT

END:VCALENDAR
