BEGIN:VCALENDAR
VERSION:2.0
PRODID:-//ChamberMaster//Event Calendar 2.0//EN
METHOD:PUBLISH
X-PUBLISHED-TTL:P3D
REFRESH-INTERVAL:P3D
CALSCALE:GREGORIAN
BEGIN:VEVENT
DTSTART:20200520T030000Z
DTEND:20200520T033000Z
X-MICROSOFT-CDO-ALLDAYEVENT:FALSE
SUMMARY:AMCHAM Business Today Video Conference
DESCRIPTION:Join AMCHAM Business Today roundtable videoconference for a member to member conversation with the AMCHAM membership\, the Board of Governors and other leaders in Thailand's premier business community. This brisk 30-minute session will be led by representative from the AMCHAM Board and will be a chance for members to connect with their peers online and discuss daily developments affecting our business. The Board will start with a recap of the key events of the day\, but then open the forum to participating members so you can learn what your fellow businesses are doing in response. Example topics might include: health and safety for employees\, company policies regarding travel\, and company policies for employees with school-age children.\n\n\n\nYou will receive an invitation with link to join the video conference by COB on the day prior to the meeting.
X-ALT-DESC;FMTTYPE=text/html:Join AMCHAM Business Today roundtable videoconference for a member to member conversation with the AMCHAM membership\, the Board of Governors and other leaders in Thailand&#39\;s premier business community. This brisk 30-minute session will be led by representative from the AMCHAM Board and will be&nbsp\;a chance for members to connect with their peers online and discuss daily developments affecting our business. The Board will start with a recap of the key events of the day\, but then open the forum to participating members so you can learn what your fellow businesses are doing in response. Example topics might include: health and safety for employees\, company policies regarding travel\, and company policies for employees with school-age children.<br />\n<br />\n<span style="font-family: arial\, sans-serif\; font-size: 13.3333px\;">You will receive an invitation with link to join the video conference by COB on the day prior to the meeting.</span><br />\n&nbsp\;<br />\n&nbsp\;
LOCATION:Video conference Meeting
UID:e.3314.1606
SEQUENCE:3
DTSTAMP:20260422T220142Z
URL:http://www.connect.amchamthailand.com/events/details/amcham-business-today-video-conference-1606
END:VEVENT

END:VCALENDAR
