BEGIN:VCALENDAR
VERSION:2.0
PRODID:-//ChamberMaster//Event Calendar 2.0//EN
METHOD:PUBLISH
X-PUBLISHED-TTL:P3D
REFRESH-INTERVAL:P3D
CALSCALE:GREGORIAN
BEGIN:VEVENT
DTSTART:20200529T070000Z
DTEND:20200529T073000Z
X-MICROSOFT-CDO-ALLDAYEVENT:FALSE
SUMMARY:AMCHAM Business Today Video Conference
DESCRIPTION:Online registration is closed.  If you would like to join please email sheree@amchamthailand.com for a link.\n\n\n\nAMCHAM is pleased to launch a video conference series\, AMCHAM Business Today\, a chance for members to connect with their peers online and discuss daily developments affecting our business. These brisk\, 30-minute discussions are member-led\; Executive Director Heidi Gallant will start with a recap of the key events of the day\, but then open the forum to participating members so you can learn what your fellow businesses are doing in response. Example topics might include: health and safety for employees\, company policies regarding travel\, and company policies for employees with school-age children.\n\n \n\nYou will receive an invitation with link to join the video conference by COB on the day prior to the meeting.
X-ALT-DESC;FMTTYPE=text/html:Online registration is closed.&nbsp\; If you would like to join please email sheree@amchamthailand.com for a link.<br />\n<br />\nAMCHAM is pleased to launch a video conference series\, <strong>AMCHAM Business Today</strong>\, a chance for members to connect with their peers online and discuss daily developments affecting our business. These&nbsp\;brisk\, 30-minute&nbsp\;discussions are member-led\; Executive Director Heidi Gallant will start with a recap of the key events of the day\, but then open the forum to participating members so you can learn what your fellow businesses are doing in response. Example topics might include: health and safety for employees\, company policies regarding travel\, and company policies for employees with school-age children.<br />\n&nbsp\;<br />\n<span style="font-family: arial\, sans-serif\; font-size: 13.3333px\;">You will receive an invitation with link to join the video conference by COB on the day prior to the meeting.</span><br />\n&nbsp\;<br />\n&nbsp\;
LOCATION:Video conference Meeting
UID:e.3314.1609
SEQUENCE:3
DTSTAMP:20260422T201220Z
URL:http://www.connect.amchamthailand.com/events/details/amcham-business-today-video-conference-1609
END:VEVENT

END:VCALENDAR
