BEGIN:VCALENDAR
VERSION:2.0
PRODID:-//ChamberMaster//Event Calendar 2.0//EN
METHOD:PUBLISH
X-PUBLISHED-TTL:P3D
REFRESH-INTERVAL:P3D
CALSCALE:GREGORIAN
BEGIN:VEVENT
DTSTART:20220407T030000Z
DTEND:20220407T033000Z
X-MICROSOFT-CDO-ALLDAYEVENT:FALSE
SUMMARY:AMCHAM Business Today Video Conference
DESCRIPTION:Join AMCHAM Business Today roundtable video conference for a member-to-member conversation with the AMCHAM Leadership and other leaders in Thailand's premier business community. This brisk 30-minute session will be a chance for members to connect with their peers online and discuss daily developments affecting the business.\n\nThe event will start with a recap of the key events of the day\, and then open the forum to participating members so they can learn what their fellow businesses are doing in response to any new Covid-19 or business developments of the day. Topics might include: travel restrictions\, work from home resources\, vaccination program\, health and safety for employees\, and ease of doing business.\n\n\n\nYou will receive an invitation with link to join the video conference by COB on the day prior to the meeting.
X-ALT-DESC;FMTTYPE=text/html:<p style="box-sizing: border-box\; font-family: &quot\;open sans&quot\;\, sans-serif\; line-height: 1.8em\; margin-bottom: 1rem\; margin-top: 0px\; color: rgb(68\, 68\, 68)\; font-size: 14px\; outline: 0px\;">Join AMCHAM Business Today roundtable video conference for a member-to-member conversation with the AMCHAM Leadership and other leaders in Thailand&#39\;s premier business community. This brisk 30-minute session will be a chance for members to connect with their peers online and discuss daily developments affecting the&nbsp\;business.</p>\n\n<p style="box-sizing: border-box\; font-family: &quot\;open sans&quot\;\, sans-serif\; line-height: 1.8em\; margin-bottom: 1rem\; margin-top: 0px\; color: rgb(68\, 68\, 68)\; font-size: 14px\;">The event will start with a recap of the key events of the day\, and&nbsp\;then open the forum to participating members so they&nbsp\;can learn what their&nbsp\;fellow businesses are doing in response to any new Covid-19 or business developments of the day. Topics might include: travel restrictions\, work from home resources\, vaccination program\, health and safety for employees\, and ease of doing business.<br style="box-sizing: border-box\;" />\n<br style="box-sizing: border-box\;" />\nYou will receive an invitation with link to join the video conference by COB on the day prior to the meeting.</p>\n
LOCATION:Video Conference
UID:e.3314.2022
SEQUENCE:3
DTSTAMP:20260421T012507Z
URL:http://www.connect.amchamthailand.com/events/details/amcham-business-today-video-conference-2022
END:VEVENT

END:VCALENDAR
