BEGIN:VCALENDAR
VERSION:2.0
PRODID:-//ChamberMaster//Event Calendar 2.0//EN
METHOD:PUBLISH
X-PUBLISHED-TTL:P3D
REFRESH-INTERVAL:P3D
CALSCALE:GREGORIAN
BEGIN:VEVENT
DTSTART:20231121T090000Z
DTEND:20231121T140000Z
X-MICROSOFT-CDO-ALLDAYEVENT:FALSE
SUMMARY:AMCHAM Corporate Social Impact Awards Ceremony 2023
DESCRIPTION:At AMCHAM\, we are proud of what our member companies do to give back to Thailand and Thai society\, making the business and social environment better for all of us. Our Corporate Social Impact Awards - previously known as the AMCHAM CSR Excellence Awards - recognizes those members who have demonstrated a greater commitment to long-term societal goals and sustainable value creation that embraces the wider demands of people and the planet. The awards have been renamed this year to recognize the evolution of CSR to broader\, more integrated sustainability efforts by businesses throughout their operations.\n\n\n\nIn 2023\, we are pleased to celebrate a record number of member companies that have earned Corporate Social Impact Recognition. The evening will begin at 4 pm with the Certificate Presentation Ceremony and Networking Reception\, as each company is invited to receive their Recognition Award personally from the U.S. Ambassador or his representative.\n\n\n\nFollowing the Certificate Presentation\, all members are invited to join for our Gala Awards Dinner at 6 pm\, when the winners of three Special Awards will be announced. This year's Special Awards themes are as follows:\n\n\n	Ambassador's Award: Supporting innovation and economic competitiveness through upskilling\, with a particular focus on women and girls\n	Thai Development Award: Fostering sustainable development in alignment with the principles of the Bio-Circular-Green Economic Model\n	Corporate Social Impact Excellence Award: Nurturing an inclusive society by embracing diversity to reduce inequality\n\nJoin us on this memorable evening as we honor the dedication\, innovation\, and commitment of our business community towards a better future for Thailand.
X-ALT-DESC;FMTTYPE=text/html:<p font-size:="" style="color: rgb(51\, 51\, 51)\; font-family: sans-serif\, Arial\, Verdana\, " trebuchet="">At AMCHAM\, we are proud of what our member companies do to give back to Thailand and Thai society\, making the business and social environment better for all of us. Our Corporate Social Impact Awards - previously known as the AMCHAM CSR Excellence Awards - recognizes those members who have demonstrated a greater commitment to long-term societal goals and sustainable value creation that embraces the wider demands of people and the planet. The awards have been renamed this year to recognize the evolution of CSR to broader\, more integrated sustainability efforts by businesses throughout their operations.<br />\n<br />\nIn 2023\, we are pleased to celebrate a record number of member companies that have earned Corporate Social Impact Recognition. The evening will begin at 4 pm with the Certificate Presentation Ceremony and Networking Reception\, as each company is invited to receive their Recognition Award personally from the U.S. Ambassador or his representative.<br />\n<br />\nFollowing the Certificate Presentation\, all members are invited to join for our Gala Awards Dinner at 6 pm\, when the winners of three Special Awards will be announced. This year&#39\;s Special Awards themes are as follows:</p>\n\n<ul>\n	<li color:="" font-size:="" line-height:="" margin-bottom:="" open="" text-align:=""><strong>Ambassador&#39\;s Award:</strong>&nbsp\;Supporting&nbsp\;innovation and economic competitiveness through upskilling\, with a particular focus on women and girls</li>\n	<li color:="" font-size:="" line-height:="" margin-bottom:="" open="" text-align:=""><strong>Thai Development Award: </strong>Fostering&nbsp\;sustainable development in alignment with the principles of the Bio-Circular-Green Economic Model</li>\n	<li color:="" font-size:="" line-height:="" margin-bottom:="" open="" text-align:=""><strong>Corporate Social Impact Excellence Award:</strong> Nurturing&nbsp\;an inclusive society by embracing diversity to reduce inequality</li>\n</ul>\nJoin us on this memorable evening as we honor the dedication\, innovation\, and commitment of our business community towards a better future for Thailand.<br />\n<br />\n&nbsp\;
LOCATION:InterContinental Bangkok\, Grand Ballroom\, 4th floor BTS: Chit Lom Station
UID:e.3314.2470
SEQUENCE:3
DTSTAMP:20260419T151657Z
URL:http://www.connect.amchamthailand.com/events/details/amcham-corporate-social-impact-awards-ceremony-2023-2470
END:VEVENT

END:VCALENDAR
