BEGIN:VCALENDAR
VERSION:2.0
PRODID:-//ChamberMaster//Event Calendar 2.0//EN
METHOD:PUBLISH
X-PUBLISHED-TTL:P3D
REFRESH-INTERVAL:P3D
CALSCALE:GREGORIAN
BEGIN:VEVENT
DTSTART:20230525T070000Z
DTEND:20230525T080000Z
X-MICROSOFT-CDO-ALLDAYEVENT:FALSE
SUMMARY:AMCHAM CSR Excellence Awards 2023 Information Session
DESCRIPTION:The AMCHAM CSR Committee invites you to join us for the AMCHAM CSR Excellence Awards 2023 launch event.\n\n\n\nAs our signature awards enter their 16th year\, our CSR Committee leaders are excited to share with members the future direction and evolution of the program as well as guide them through the application process.\n\n\n\nIf your company has been recognized in the past\, now is the time to begin planning a repeat performance for higher levels of CSR Recognition   Silver\, Gold\, or Platinum - based on the number of consecutive years recognized. If you are a new member or you have never applied for a CSR recognition\, come to this conference to learn how you can apply.\n\n \n\nThe submission process is not difficult\, but it does involve some forethought and planning. Set the date and bring your team to gain a deep understanding of the 2023 CSR Award's themes and special awards categories\, submission process\, and judging criteria. Get your questions answered live at a panel discussion with the 2023 special award winners.\n\n \n\nNote that your representatives can be anyone you authorize - your CSR maven or savvy PA included.\n\n \n\nJoin live to get inspired to start your application!
X-ALT-DESC;FMTTYPE=text/html:The AMCHAM CSR Committee invites you to join us for the AMCHAM CSR Excellence Awards 2023 launch event.<br />\n<br />\nAs our signature awards enter their 16th year\, our CSR Committee leaders are excited to share with members the future direction and evolution of the program as well as guide them through the application process.<br />\n<br />\nIf your company has been recognized in the past\, now is the time to begin planning a repeat performance for higher levels of CSR Recognition &ndash\; Silver\, Gold\, or Platinum - based on the number of consecutive years recognized. If you are a new member or you have never applied for a CSR recognition\, come to this conference to learn how you can apply.<br />\n&nbsp\;<br />\nThe submission process is not difficult\, but it does involve some forethought and planning. Set the date and bring your team to gain a deep understanding of the 2023 CSR Award&#39\;s themes and special awards categories\, submission process\, and judging criteria. Get your questions answered live at a panel discussion with the 2023 special award winners.<br />\n&nbsp\;<br />\nNote that your representatives can be anyone you authorize - your CSR maven or savvy PA included.<br />\n&nbsp\;<br />\nJoin live to get inspired to start your application!
LOCATION:Webinar
UID:e.3314.2540
SEQUENCE:3
DTSTAMP:20260420T015614Z
URL:http://www.connect.amchamthailand.com/events/details/amcham-csr-excellence-awards-2023-information-session-2540
END:VEVENT

END:VCALENDAR
