BEGIN:VCALENDAR
VERSION:2.0
PRODID:-//ChamberMaster//Event Calendar 2.0//EN
METHOD:PUBLISH
X-PUBLISHED-TTL:P3D
REFRESH-INTERVAL:P3D
CALSCALE:GREGORIAN
BEGIN:VEVENT
DTSTART:20201027T030000Z
DTEND:20201027T050000Z
X-MICROSOFT-CDO-ALLDAYEVENT:FALSE
SUMMARY:AMCHAM CSR Excellence Recognition Award Ceremony 2020
DESCRIPTION:Corporate Social Responsibility (CSR) is a key pillar of ethical business. At AMCHAM\, we are proud of what our member companies do to give back to Thailand and Thai society\, making the business and social environment better for all of us.\n\n \n\nTo honor these efforts\, AMCHAM awards CSR Recognition to companies that demonstrate an advanced understanding of the linkages between business operations and society\, and conduct business in a way that creates long-term economic and social value. Our goal is to identify excellence\, not just through individual projects or monetary contributions\, but through good internal strategy and systems to support CSR and integrate it throughout the company's business practices. In 2020\, we have a record 76 companies who have qualified for recognition.\n\n \n\nIn order to support social distancing recommendations\, we have redesigned our CSR Excellence Awards Recognition Ceremony in 2020 as a series of smaller receptions for Recognition recipients\, where they will be personally awarded their Recognition certificate by US Ambassador Michael George DeSombre.\n\nIn addition to our CSR Recognition Recipients\, AMCHAM will award three Special Awards: \n\n\n	Ambassador's Award\n	Thai Development Award\n	CSR Excellence Award\n\n\nThese Award winners will be announced to the membership at large at our online Annual General Meeting which follows the awards presentation.
X-ALT-DESC;FMTTYPE=text/html:<p>Corporate Social Responsibility (CSR) is a key pillar of ethical business. At AMCHAM\, we are proud of what our member companies do to give back to Thailand and Thai society\, making the business and social environment better for all of us.<br />\n&nbsp\;<br />\nTo honor these efforts\, AMCHAM awards CSR Recognition to companies that demonstrate an advanced understanding of the linkages between business operations and society\, and conduct business in a way that creates long-term economic and social value. Our goal is to identify excellence\, not just through individual projects or monetary contributions\, but through good internal strategy and systems to support CSR and integrate it throughout the company&#39\;s business practices. In 2020\, we have a record 76 companies who have qualified for recognition.<br />\n&nbsp\;</p>\n\n<p>In order to support social distancing recommendations\, we have redesigned our CSR Excellence Awards Recognition Ceremony in 2020 as a series of smaller receptions for Recognition recipients\, where they will be personally awarded their Recognition certificate by US Ambassador Michael George DeSombre.</p>\n\n<p>In addition to our CSR Recognition Recipients\, AMCHAM will award three Special Awards:&nbsp\;</p>\n\n<ul>\n	<li>Ambassador&#39\;s Award</li>\n	<li>Thai Development Award</li>\n	<li>CSR Excellence Award</li>\n</ul>\n\n<p>These Award winners will be announced to the membership at large at our online <a href="https://connect.amchamthailand.com/events/details/annual-general-meeting-1566?calendarMonth=2020-10-01">Annual General Meeting</a>&nbsp\;which follows the awards presentation.</p>\n
LOCATION:Conrad Bangkok\, Grand Ballroom BTS: Ploenchit
UID:e.3314.1693
SEQUENCE:3
DTSTAMP:20260422T112135Z
URL:http://www.connect.amchamthailand.com/events/details/amcham-csr-excellence-recognition-award-ceremony-2020-1693
END:VEVENT

END:VCALENDAR
