BEGIN:VCALENDAR
VERSION:2.0
PRODID:-//ChamberMaster//Event Calendar 2.0//EN
METHOD:PUBLISH
X-PUBLISHED-TTL:P3D
REFRESH-INTERVAL:P3D
CALSCALE:GREGORIAN
BEGIN:VEVENT
DTSTART:20211110T020000Z
DTEND:20211110T030000Z
X-MICROSOFT-CDO-ALLDAYEVENT:FALSE
SUMMARY:AMCHAM CSR Excellence Recognition Award Ceremony 2021
DESCRIPTION:Corporate Social Responsibility (CSR) is a key pillar of ethical business. At AMCHAM\, we are proud of what our member companies do to give back to Thailand and Thai society\, making the business and social environment better for all of us.\n\n\n\nTo honor these efforts\, AMCHAM awards CSR Recognition to companies that demonstrate an advanced understanding of the linkages between business operations and society\, and conduct business in a way that creates long-term economic and social value. Our goal is to identify excellence\, not just through individual projects or monetary contributions\, but through good internal strategy and systems to support CSR and integrate it throughout the company's business practices. In 2021\, we have a record 87 companies who have qualified for recognition.\n\nIn order to support health safety recommendations\, we will have the event as online format where the Charg  d' Affaires\, Michael Heath and AMCHAM President will have the remarks for the appreciation to all recipients and the three special award winners will be announced\;\n\n\n	Ambassador's Award - In recognition of Technological Advancement for a Low-Carbon Future\n	Thai Development Award - In recognition of Demonstrating Covid-19 Socio-Economic Resilience\n	CSR Excellence Award - In recognition of Promoting Diversity\, Equality\, and Inclusion in the Workplace and Community
X-ALT-DESC;FMTTYPE=text/html:<p>Corporate Social Responsibility (CSR) is a key pillar of ethical business. At AMCHAM\, we are proud of what our member companies do to give back to Thailand and Thai society\, making the business and social environment better for all of us.<br />\n<br />\nTo honor these efforts\, AMCHAM awards CSR Recognition to companies that demonstrate an advanced understanding of the linkages between business operations and society\, and conduct business in a way that creates long-term economic and social value. Our goal is to identify excellence\, not just through individual projects or monetary contributions\, but through good internal strategy and systems to support CSR and integrate it throughout the company&#39\;s business practices. In 2021\, we have a record 87 companies who have qualified for recognition.</p>\n\n<p>In order to support health safety recommendations\, we will have the event as online format where the Charg&eacute\; d&#39\; Affaires\, Michael Heath and AMCHAM President will have the&nbsp\;remarks for the appreciation to all recipients and the three special award winners will be announced\;</p>\n\n<ul>\n	<li>Ambassador&#39\;s Award -&nbsp\;In recognition of Technological Advancement for a Low-Carbon Future</li>\n	<li>Thai Development Award -&nbsp\;In recognition of Demonstrating Covid-19 Socio-Economic Resilience</li>\n	<li>CSR Excellence Award -&nbsp\;In recognition of Promoting Diversity\, Equality\, and Inclusion in the Workplace and Community</li>\n</ul>\n
LOCATION:
UID:e.3314.1980
SEQUENCE:3
DTSTAMP:20260421T140839Z
URL:http://www.connect.amchamthailand.com/events/details/amcham-csr-excellence-recognition-award-ceremony-2021-1980
END:VEVENT

END:VCALENDAR
