BEGIN:VCALENDAR
VERSION:2.0
PRODID:-//ChamberMaster//Event Calendar 2.0//EN
METHOD:PUBLISH
X-PUBLISHED-TTL:P3D
REFRESH-INTERVAL:P3D
CALSCALE:GREGORIAN
BEGIN:VEVENT
DTSTART:20191118T113000Z
DTEND:20191118T141500Z
X-MICROSOFT-CDO-ALLDAYEVENT:FALSE
SUMMARY:AMCHAM CSR Excellence Recognition Award Thanksgiving Dinner
DESCRIPTION:Corporate Social Responsibility (CSR) is a key pillar of ethical business. At AMCHAM\, we are proud of what our member companies do to give back to Thailand and Thai society\, making the business and social environment better for all of us.\n\n\n\nTo honor these efforts\, AMCHAM awards ACE Recognition to companies that demonstrate an advanced understanding of the linkages between business operations and society\, and conduct business in a way that creates long-term economic and social value. Our goal is to identify excellence\, not just through individual projects or monetary contributions\, but through good internal strategy and systems to support CSR and integrate it throughout the company's business practices.\n\n\n\nWe invite you to join us for a Thanksgiving Gala dinner to honor AMCHAM company members who demonstrate excellence in CSR.  While we share a traditional Thanksgiving feast with turkey and trimmings\, we will recognize the winners of the 10th AMCHAM Corporate Social Responsibility (CSR) Excellence (ACE) Awards.\n\nThe ACE Awards have become a signature AMCHAM program and this year a record number of companies will be receiving recognition for their CSR activities.\n\n\n\n5 pm            Registration opens to ACE recipients for the certificate ceremony\n\n6:30             Registration opens with pre-event networking\n\n7 pm            Guests seated / Dinner served \n\n8 pm            Remarks \n\n8:10 pm       ACE 2019 Overview and recognition to all recipients \n\n8:20 pm       Special Award presentations\n\n9 pm            Group Photo with all recipients\n\n9:15 pm       End\n\n\n\nDress code: Business attire\n\n\n\nPlease note that due to the large numbers expected for this event\, all tables will seat 10 persons.\n\n------------------------------------------------ \n\nMenu\n\nPumpkin ginger cream soup with saffron foam and croutons\n\n***\n\nRoasted Stuffed Turkey with potatoes mashed\, sausages and chestnut stuffing with Giblet\,\n\nRosemary au jus and cranberry relish\n\nOr\n\nRoasted salmon fillet with potatoes mousseline\, grilled organic asparagus\,\n\nTomato\, peppers and olive with white wine velout \n\nOr\n\nVegetarian - Mushroom and Spinach Ravioli\, tomato and basil served with crispy parmesan\n\n***\n\nBrownie Cheesecake with chocolate mousse & digestive Biscuit\n\nThe Shangri-La blended coffee or selection of teas\n\n\n\nPlease indicate menu main course choice when booking
X-ALT-DESC;FMTTYPE=text/html:<p>Corporate Social Responsibility (CSR) is a key pillar of ethical business. At AMCHAM\, we are proud of what our member companies do to give back to Thailand and Thai society\, making the business and social environment better for all of us.<br />\n<br />\nTo honor these efforts\, AMCHAM awards ACE Recognition to companies that demonstrate&nbsp\;an advanced understanding of the linkages between business operations and society\, and conduct business in a way that creates long-term economic and social value. Our goal is to identify excellence\, not just through individual projects or monetary contributions\, but through good internal strategy and systems to support CSR and integrate it throughout the company&#39\;s business practices.<br />\n<br />\nWe invite you to join us&nbsp\;for a Thanksgiving Gala dinner to honor&nbsp\;AMCHAM&nbsp\;company members who demonstrate excellence in CSR.&nbsp\;&nbsp\;While we share a traditional Thanksgiving feast with turkey and trimmings\, we will recognize the winners of the 10th AMCHAM&nbsp\;Corporate Social Responsibility (CSR) Excellence (ACE) Awards.</p>\n\n<p>The ACE Awards have become a signature AMCHAM program and this year a record number of companies will be receiving recognition for their CSR activities.<br />\n<br />\n5 pm&nbsp\;&nbsp\;&nbsp\;&nbsp\;&nbsp\;&nbsp\;&nbsp\;&nbsp\;&nbsp\;&nbsp\;&nbsp\; Registration opens to ACE recipients for the certificate ceremony<br />\n6:30&nbsp\;&nbsp\;&nbsp\;&nbsp\;&nbsp\;&nbsp\;&nbsp\;&nbsp\;&nbsp\;&nbsp\;&nbsp\;&nbsp\; Registration opens with pre-event networking<br />\n7 pm&nbsp\;&nbsp\;&nbsp\;&nbsp\;&nbsp\;&nbsp\;&nbsp\;&nbsp\;&nbsp\;&nbsp\;&nbsp\; Guests seated / Dinner served&nbsp\;<br />\n8 pm&nbsp\;&nbsp\;&nbsp\;&nbsp\;&nbsp\;&nbsp\;&nbsp\;&nbsp\;&nbsp\;&nbsp\;&nbsp\; Remarks&nbsp\;<br />\n8:10 pm&nbsp\;&nbsp\;&nbsp\;&nbsp\;&nbsp\;&nbsp\;&nbsp\;ACE 2019&nbsp\;Overview and recognition to all recipients&nbsp\;<br />\n8:20 pm &nbsp\; &nbsp\; &nbsp\; Special Award presentations<br />\n9 pm&nbsp\;&nbsp\;&nbsp\;&nbsp\;&nbsp\;&nbsp\;&nbsp\;&nbsp\;&nbsp\;&nbsp\;&nbsp\; Group Photo with all recipients<br />\n9:15 pm&nbsp\;&nbsp\;&nbsp\;&nbsp\;&nbsp\;&nbsp\;&nbsp\;End</p>\n\n<p><br />\n<strong>Dress code</strong>:&nbsp\;Business attire<br />\n<br />\nPlease note that due to the large numbers expected for this event\, all tables will seat 10 persons.</p>\n\n<p>------------------------------------------------&nbsp\;<br />\n<strong>Menu</strong></p>\n\n<p>Pumpkin ginger cream soup with saffron foam and croutons<br />\n***<br />\nRoasted Stuffed Turkey with potatoes mashed\, sausages and chestnut stuffing with Giblet\,<br />\nRosemary au jus and cranberry relish<br />\nOr<br />\nRoasted salmon fillet with potatoes mousseline\, grilled organic asparagus\,<br />\nTomato\, peppers and olive with white wine velout&eacute\;<br />\nOr<br />\nVegetarian - Mushroom and Spinach Ravioli\, tomato and basil served with crispy parmesan<br />\n***<br />\nBrownie Cheesecake with chocolate mousse &amp\; digestive Biscuit<br />\nThe Shangri-La blended coffee or selection of teas<br />\n<br />\n<span style="color: rgb(178\, 34\, 34)\;"><strong>Please&nbsp\;indicate menu main course choice when booking</strong></span></p>\n
LOCATION:Shangri-La Bangkok Hotel\, Grand Ballroom BTS Saphan Taksin
UID:e.3314.338
SEQUENCE:3
DTSTAMP:20260423T073553Z
URL:http://www.connect.amchamthailand.com/events/details/amcham-csr-excellence-recognition-award-thanksgiving-dinner-338
END:VEVENT

END:VCALENDAR
