BEGIN:VCALENDAR
VERSION:2.0
PRODID:-//ChamberMaster//Event Calendar 2.0//EN
METHOD:PUBLISH
X-PUBLISHED-TTL:P3D
REFRESH-INTERVAL:P3D
CALSCALE:GREGORIAN
BEGIN:VEVENT
DTSTART:20181120T113000Z
DTEND:20181120T141500Z
X-MICROSOFT-CDO-ALLDAYEVENT:FALSE
SUMMARY:AMCHAM CSR Excellence Recognition Award Thanksgiving Dinner
DESCRIPTION:Dress code: Business attire\n\nJoin us for a Thanksgiving dinner to honor and give thanks to AMCHAM company members for being responsible corporate citizens and investing in their communities.\n\nWhile we share a traditional Thanksgiving feast with turkey and trimmings\, we will recognize the winners of the 9th AMCHAM Corporate Social Responsibility (CSR) Excellence (ACE) Awards.\n\nThe ACE Awards have become a signature AMCHAM program and this year a record number of companies will be receiving recognition for their CSR activities.\n\nAgenda\n\n5 pm            Registration opens to ACE recipients for the certificate ceremony\n\n6:30             Registration opens with pre-event networking\n\n7 pm            Guests seated / Dinner served \n\n8 pm            Remarks \n\n8:10 pm       ACE 2018 Overview and recognition to all recipients \n\n8:20 pm       Special Award presentations\n\n9 pm            Group Photo with all recipients\n\n9:15 pm       End\n\n\n\nPlease note that due to the large numbers expected for this event\, all tables will seat 10 persons.\n\n------------------------------------------------ \n\nMenu\n\n* Roasted Winter Butter Squash Cappuccino\n\n* Roasted Stuffed Turkey with potatoes mashed\, sausages and chestnut stuffing with Giblet\, Rosemary au jus and cranberry relish\n\n* Warm Apple Pie with Vanilla Ice cream\n\n\n\nVegetarian menu available - please indicate when booking
X-ALT-DESC;FMTTYPE=text/html:<p><strong>Dress code:</strong> Business attire</p>\n\n<p>Join us for a Thanksgiving dinner to honor and give thanks to AMCHAM&nbsp\;company members for being responsible corporate citizens and investing in their communities.</p>\n\n<p>While we share a traditional Thanksgiving feast with turkey and trimmings\, we will recognize the winners of the 9th AMCHAM&nbsp\;Corporate Social Responsibility (CSR) Excellence (ACE) Awards.</p>\n\n<p>The ACE Awards have become a signature AMCHAM program and this year a record number of companies will be receiving recognition for their CSR activities.</p>\n\n<p><strong>Agenda</strong><br />\n5 pm&nbsp\;&nbsp\;&nbsp\;&nbsp\;&nbsp\;&nbsp\;&nbsp\;&nbsp\;&nbsp\;&nbsp\;&nbsp\; Registration opens to ACE recipients for the certificate ceremony<br />\n6:30&nbsp\;&nbsp\;&nbsp\;&nbsp\;&nbsp\;&nbsp\;&nbsp\;&nbsp\;&nbsp\;&nbsp\;&nbsp\;&nbsp\; Registration opens with pre-event networking<br />\n7 pm&nbsp\;&nbsp\;&nbsp\;&nbsp\;&nbsp\;&nbsp\;&nbsp\;&nbsp\;&nbsp\;&nbsp\;&nbsp\; Guests seated / Dinner served&nbsp\;<br />\n8 pm&nbsp\;&nbsp\;&nbsp\;&nbsp\;&nbsp\;&nbsp\;&nbsp\;&nbsp\;&nbsp\;&nbsp\;&nbsp\; Remarks&nbsp\;<br />\n8:10 pm&nbsp\;&nbsp\;&nbsp\;&nbsp\;&nbsp\;&nbsp\;&nbsp\;ACE 2018 Overview and recognition to all recipients&nbsp\;<br />\n8:20 pm &nbsp\; &nbsp\; &nbsp\; Special Award presentations<br />\n9 pm&nbsp\;&nbsp\;&nbsp\;&nbsp\;&nbsp\;&nbsp\;&nbsp\;&nbsp\;&nbsp\;&nbsp\;&nbsp\; Group Photo with all recipients<br />\n9:15 pm&nbsp\;&nbsp\;&nbsp\;&nbsp\;&nbsp\;&nbsp\;&nbsp\;End<br />\n<br />\nPlease note that due to the large numbers expected for this event\, all tables will seat 10 persons.</p>\n\n<p>------------------------------------------------&nbsp\;<br />\n<strong>Menu</strong><br />\n* Roasted Winter Butter Squash Cappuccino<br />\n* Roasted Stuffed&nbsp\;Turkey with potatoes mashed\, sausages and chestnut stuffing with Giblet\, Rosemary au jus and cranberry relish<br />\n* Warm Apple Pie with Vanilla Ice cream<br />\n<br />\nVegetarian menu available - please indicate&nbsp\;when booking</p>\n
LOCATION:Shangri-La Bangkok Hotel\, Grand Ballroom BTS Saphan Taksin
UID:e.3314.40
SEQUENCE:3
DTSTAMP:20260424T043048Z
URL:http://www.connect.amchamthailand.com/events/details/amcham-csr-excellence-recognition-award-thanksgiving-dinner-40
END:VEVENT

END:VCALENDAR
