BEGIN:VCALENDAR
VERSION:2.0
PRODID:-//ChamberMaster//Event Calendar 2.0//EN
METHOD:PUBLISH
X-PUBLISHED-TTL:P3D
REFRESH-INTERVAL:P3D
CALSCALE:GREGORIAN
BEGIN:VEVENT
DTSTART;VALUE=DATE:20220821
DTEND;VALUE=DATE:20220825
TRANSP:TRANSPARENT
X-MICROSOFT-CDO-ALLDAYEVENT:TRUE
SUMMARY:AMCHAM/FedEx Career Camp\, August 21-24
DESCRIPTION:Career camp for graduating AMCHAM scholarship students.\n\n\n\nProgram\n\n21 August - Ice-Breaker Dinner\n\n22 August - Career Workshops \n\n                   - Career Night panel \n\n23 August  - AMCHAM Member company site visits\n\n                  - Certificate presentation\n\n24 August  - Mock HR Interviews  \n\n                 \n\nIf you would like more information on how to become involved in the AMCHAM Foundation Scholarship Program please contact sheree@amchamthailand.com.
X-ALT-DESC;FMTTYPE=text/html:Career camp for graduating AMCHAM scholarship students.<br />\n<br />\n<strong>Program</strong><br />\n21 August - Ice-Breaker Dinner<br />\n22 August - Career Workshops&nbsp\;<br />\n&nbsp\; &nbsp\; &nbsp\; &nbsp\; &nbsp\; &nbsp\; &nbsp\; &nbsp\; &nbsp\; &nbsp\;- Career Night panel&nbsp\;<br />\n23 August&nbsp\; - AMCHAM Member company site visits<br />\n&nbsp\; &nbsp\; &nbsp\; &nbsp\; &nbsp\; &nbsp\; &nbsp\; &nbsp\; &nbsp\; - Certificate presentation<br />\n24 August&nbsp\; - Mock HR Interviews&nbsp\;&nbsp\;<br />\n&nbsp\; &nbsp\; &nbsp\; &nbsp\; &nbsp\; &nbsp\; &nbsp\; &nbsp\; &nbsp\;<br />\nIf you would like more information on how to become involved in the AMCHAM Foundation Scholarship Program please contact sheree@amchamthailand.com.
LOCATION:Various
UID:e.3314.2188
SEQUENCE:3
DTSTAMP:20260420T195626Z
URL:http://www.connect.amchamthailand.com/events/details/amcham-fedex-career-camp-august-21-24-2188
END:VEVENT

END:VCALENDAR
