BEGIN:VCALENDAR
VERSION:2.0
PRODID:-//ChamberMaster//Event Calendar 2.0//EN
METHOD:PUBLISH
X-PUBLISHED-TTL:P3D
REFRESH-INTERVAL:P3D
CALSCALE:GREGORIAN
BEGIN:VEVENT
DTSTART:20200318T020000Z
DTEND:20200318T030000Z
X-MICROSOFT-CDO-ALLDAYEVENT:FALSE
SUMMARY:AMCHAM Foundation Board Meeting
DESCRIPTION:Annual meeting of the AMCHAM Foundation Board of Governors\n\n\n\nBy Invitation only
X-ALT-DESC;FMTTYPE=text/html:Annual meeting of the AMCHAM Foundation Board of Governors<br />\n<br />\nBy Invitation only
LOCATION:AMCHAM Office
UID:e.3314.1560
SEQUENCE:3
DTSTAMP:20260423T001041Z
URL:http://www.connect.amchamthailand.com/events/details/amcham-foundation-board-meeting-1560
END:VEVENT

END:VCALENDAR
