BEGIN:VCALENDAR
VERSION:2.0
PRODID:-//ChamberMaster//Event Calendar 2.0//EN
METHOD:PUBLISH
X-PUBLISHED-TTL:P3D
REFRESH-INTERVAL:P3D
CALSCALE:GREGORIAN
BEGIN:VEVENT
DTSTART:20201202T030000Z
DTEND:20201202T040000Z
X-MICROSOFT-CDO-ALLDAYEVENT:FALSE
SUMMARY:AMCHAM Membership Meeting with Mr. Kulit Sombatsiri\, Permanent Secretary\, Ministry of Energy
DESCRIPTION:AMCHAM welcomes Khun Kulit Sombatsiri\, Permanent Secretary of the Ministry of Energy\, as the honored keynote speaker at the AMCHAM virtual membership meeting on December 2\, 2020\, at 10 am. He will speak to AMCHAM members on the Ministry's policy priorities\, the energy landscape in Thailand\, the measures to overcome the Covid-19 crisis\, and its impact on the economy and future economic prospects.\n\n\n\nKhun Kulit was formerly Director General of the Customs Department\, Ministry of Finance. He holds a Bachelor's Degree from Ramkhamhaeng University\, a Master's Degree from San Diego State University and an MBA from the University of Southern California.
X-ALT-DESC;FMTTYPE=text/html:AMCHAM welcomes Khun Kulit Sombatsiri\, Permanent Secretary of the Ministry of Energy\, as the honored keynote speaker at the AMCHAM virtual membership meeting on December 2\, 2020\, at 10 am. He will speak to AMCHAM members on the Ministry&rsquo\;s policy priorities\, the energy landscape in Thailand\, the measures to overcome the Covid-19 crisis\, and its impact on the economy and future economic prospects.<br />\n<br />\nKhun Kulit was formerly Director General of the Customs Department\, Ministry of Finance. He holds a Bachelor&rsquo\;s Degree from Ramkhamhaeng University\, a Master&rsquo\;s Degree from San Diego State University and an MBA from the University of Southern California.
LOCATION:Online Webinar
UID:e.3314.1773
SEQUENCE:3
DTSTAMP:20260422T095721Z
URL:http://www.connect.amchamthailand.com/events/details/amcham-membership-meeting-with-mr-kulit-sombatsiri-permanent-secretary-ministry-of-energy-1773
END:VEVENT

END:VCALENDAR
