BEGIN:VCALENDAR
VERSION:2.0
PRODID:-//ChamberMaster//Event Calendar 2.0//EN
METHOD:PUBLISH
X-PUBLISHED-TTL:P3D
REFRESH-INTERVAL:P3D
CALSCALE:GREGORIAN
BEGIN:VEVENT
DTSTART:20210119T030000Z
DTEND:20210119T040000Z
X-MICROSOFT-CDO-ALLDAYEVENT:FALSE
SUMMARY:AMCHAM Membership Meeting with Ms. Auramon Supthaweethum\, Director General\, Department of Trade Negotiations
DESCRIPTION:AMCHAM is delighted to welcome Ms. Auramon Supthaweethum\, Director General\, Department of Trade Negotiations\, to address the AMCHAM membership at our online Membership Meeting.\n\n\n\nThere has been a paradigm shift in the international economic landscape as a result of the Covid pandemic. Thailand is in the process of repositioning its global economic strategy to respond to the new realities and to mitigate the challenges and capitalize on the newly emerging opportunities. Director General Auramon will discuss the Department's Covid-19 related policy priorities\, the status of RCEP\, CPTPP\, and perspectives on maintaining commercial growth in the midst of the global pandemic and the New Normal's future trends.\n\n\n\nDirector General Auramon represented Thailand in several World Trade Organization (WTO) and bilateral trade negotiations and meetings. She was Minister Counselor at the Permanent Mission of Thailand to the World Trade Organization from 2003-2007. She became Deputy Director-General of the Department of Intellectual Property in 2015.  From 2015 to 2017\,  she was a member of the National Reform Steering Assembly (NRSA) where she worked on recommendations for economic reform with a view to transforming Thailand to Innovative-Driven- Economy. In 2017\, She was Deputy Director-General of the Department of Trade Negotiations.  In 2018\, she was appointed Director-General of the Department of Trade Negotiations.\n\n \n\nDirector General Auramon holds a Bachelor of Commerce and Administration in Accounting and Economics from Victoria University of Wellington\, New Zealand\, with further studies in Economic Development and International Trade at University of Reading\, the United Kingdom\, and a Master of Business Administration from Thammasat University\, Thailand
X-ALT-DESC;FMTTYPE=text/html:AMCHAM is delighted to welcome Ms. Auramon Supthaweethum\,&nbsp\;Director General\, Department of Trade Negotiations\, to address the AMCHAM membership at our online Membership Meeting.<br />\n<br />\nThere has been a paradigm shift in the international economic landscape as a result of the Covid pandemic. Thailand is in the process of repositioning its global economic strategy to respond to the new realities and to mitigate the challenges and capitalize on the newly emerging opportunities.&nbsp\;Director General Auramon&nbsp\;will discuss the Department&rsquo\;s Covid-19 related policy priorities\, the status of RCEP\, CPTPP\, and perspectives on maintaining commercial growth in the midst of the global pandemic and the New Normal&rsquo\;s future trends.<br />\n<br />\nDirector General Auramon represented Thailand in several World Trade Organization (WTO) and bilateral trade negotiations and meetings. She was Minister Counselor at the Permanent Mission of Thailand to the World Trade Organization from 2003-2007. She became Deputy Director-General of the Department of Intellectual Property in 2015.&nbsp\; From 2015 to 2017\, &nbsp\;she was a member of the National Reform Steering Assembly (NRSA) where she worked on recommendations for economic reform with a view to transforming Thailand to Innovative-Driven- Economy. In 2017\, She was Deputy Director-General of the Department of Trade Negotiations.&nbsp\; In 2018\, she was appointed Director-General of the Department of Trade Negotiations.<br />\n&nbsp\;<br />\nDirector General Auramon holds a Bachelor of Commerce and Administration in Accounting and Economics from Victoria University of Wellington\, New Zealand\, with further studies in Economic Development and International Trade at University of Reading\, the United Kingdom\, and a Master of Business Administration from Thammasat University\, Thailand
LOCATION:Online Webinar
UID:e.3314.1801
SEQUENCE:3
DTSTAMP:20260422T060932Z
URL:http://www.connect.amchamthailand.com/events/details/amcham-membership-meeting-with-ms-auramon-supthaweethum-director-general-department-of-trade-negotiations-1801
END:VEVENT

END:VCALENDAR
