BEGIN:VCALENDAR
VERSION:2.0
PRODID:-//ChamberMaster//Event Calendar 2.0//EN
METHOD:PUBLISH
X-PUBLISHED-TTL:P3D
REFRESH-INTERVAL:P3D
CALSCALE:GREGORIAN
BEGIN:VEVENT
DTSTART:20210517T030000Z
DTEND:20210517T040000Z
X-MICROSOFT-CDO-ALLDAYEVENT:FALSE
SUMMARY:AMCHAM Membership Meeting with the Immigration Bureau
DESCRIPTION:AMCHAM is pleased and honored to cordially welcome Pol. Lt. Col. Pornsarunput Suntichanathiput\, Deputy Superintendent\, Sub-Division 2\, Immigration Bureau and Pol. Lt. Col. Tanchanok Rommayanont\, Inspector\, Sub-Division 3\, Immigration Bureau to the AMCHAM Membership Virtual Meeting. They will talk about the immigration measures to address the Covid-19 impact on foreigners in Thailand and how AMCHAM and the Immigration Bureau can continue to work together\, going forward. The event will be followed by a question-and-answer session.\n\n\n\nThis is a rare opportunity for AMCHAM members to candidly discuss the issues of significance to us all with the Immigration Bureau.\n\n\n\nPlease note that this Membership Meeting will be conducted in Thai with English translation and will be held in videoconference format.
X-ALT-DESC;FMTTYPE=text/html:AMCHAM is pleased and honored to cordially welcome Pol. Lt. Col. Pornsarunput Suntichanathiput\, Deputy Superintendent\, Sub-Division 2\, Immigration Bureau and Pol. Lt. Col. Tanchanok Rommayanont\, Inspector\, Sub-Division 3\, Immigration Bureau to the AMCHAM Membership Virtual Meeting. They will talk about the immigration measures to address the Covid-19 impact on foreigners in Thailand and how AMCHAM and the Immigration Bureau can continue to work together\, going forward. The event will be followed by a question-and-answer session.<br />\n<br />\nThis is a rare opportunity for AMCHAM members to candidly discuss the issues of significance to us all with the Immigration Bureau.<br />\n<br />\nPlease note that this Membership Meeting will be conducted in Thai with English translation and will be held in videoconference format.&nbsp\;
LOCATION:Videoconference
UID:e.3314.1905
SEQUENCE:3
DTSTAMP:20260422T010626Z
URL:http://www.connect.amchamthailand.com/events/details/amcham-membership-meeting-with-the-immigration-bureau-1905
END:VEVENT

END:VCALENDAR
