BEGIN:VCALENDAR
VERSION:2.0
PRODID:-//ChamberMaster//Event Calendar 2.0//EN
METHOD:PUBLISH
X-PUBLISHED-TTL:P3D
REFRESH-INTERVAL:P3D
CALSCALE:GREGORIAN
BEGIN:VEVENT
DTSTART:20230113T010000Z
DTEND:20230113T020000Z
X-MICROSOFT-CDO-ALLDAYEVENT:FALSE
SUMMARY:AMCHAM Myanmar Bangkok Breakfast
DESCRIPTION:AMCHAM Myanmar invites AMCHAM Thailand members to join their Executive Director Tatum Albertine for a casual Breakfast in Bangkok!\n\n \nBreakfast will be at Breakfast Story @ Mahatun Plaza (BTS Phloen Chit). Kick off your day with USA-style pancakes\, eggs\, coffees\, smoothies\, and all the goodies. Come for the pancakes and the conversation. (no really\, the pancakes are quite good!).
X-ALT-DESC;FMTTYPE=text/html:<span style="font-size:14px\;">AMCHAM Myanmar invites AMCHAM Thailand members to join their Executive Director Tatum Albertine for a casual Breakfast in Bangkok!</span><br />\n&nbsp\;\n<p style="box-sizing: border-box\; margin: 0px auto\;"><span style="font-size:14px\;">Breakfast will be at&nbsp\;<span style="box-sizing: border-box\; font-weight: 700\; font-style: inherit\;">Breakfast Story @ Mahatun Plaza</span>&nbsp\;(BTS Phloen Chit).&nbsp\;Kick off your day with USA-style pancakes\, eggs\, coffees\, smoothies\, and all the goodies. Come for the pancakes and the conversation. (no really\, the pancakes are quite good!).</span></p>\n\n<p style="box-sizing: border-box\; margin: 0px auto\;">&nbsp\;</p>\n
LOCATION:Venue Breakfast Story Phloen Chit 888\, Mahatun Plaza\, 3rd Floor (above Blue Cheri\, 34-35 Phloen Chit Rd\, Lumphini\, Pathum Wan\, Bangkok 10330) Bangkok\, Thailand BTS Phloen Chit
UID:e.3314.2325
SEQUENCE:3
DTSTAMP:20260420T093225Z
URL:http://www.connect.amchamthailand.com/events/details/amcham-myanmar-bangkok-breakfast-2325
END:VEVENT

END:VCALENDAR
